BEGIN:VCALENDAR
VERSION:2.0
PRODID:-//Warlord Community - ECPv6.15.20//NONSGML v1.0//EN
CALSCALE:GREGORIAN
METHOD:PUBLISH
X-WR-CALNAME:Warlord Community
X-ORIGINAL-URL:https://warlord-community.warlordgames.com
X-WR-CALDESC:Events for Warlord Community
REFRESH-INTERVAL;VALUE=DURATION:PT1H
X-Robots-Tag:noindex
X-PUBLISHED-TTL:PT1H
BEGIN:VTIMEZONE
TZID:Europe/London
BEGIN:DAYLIGHT
TZOFFSETFROM:+0000
TZOFFSETTO:+0100
TZNAME:BST
DTSTART:20170326T010000
END:DAYLIGHT
BEGIN:STANDARD
TZOFFSETFROM:+0100
TZOFFSETTO:+0000
TZNAME:GMT
DTSTART:20171029T010000
END:STANDARD
BEGIN:DAYLIGHT
TZOFFSETFROM:+0000
TZOFFSETTO:+0100
TZNAME:BST
DTSTART:20180325T010000
END:DAYLIGHT
BEGIN:STANDARD
TZOFFSETFROM:+0100
TZOFFSETTO:+0000
TZNAME:GMT
DTSTART:20181028T010000
END:STANDARD
BEGIN:DAYLIGHT
TZOFFSETFROM:+0000
TZOFFSETTO:+0100
TZNAME:BST
DTSTART:20190331T010000
END:DAYLIGHT
BEGIN:STANDARD
TZOFFSETFROM:+0100
TZOFFSETTO:+0000
TZNAME:GMT
DTSTART:20191027T010000
END:STANDARD
END:VTIMEZONE
BEGIN:VEVENT
DTSTART;TZID=Europe/London:20180505T100000
DTEND;TZID=Europe/London:20180505T190000
DTSTAMP:20260424T151732
CREATED:20180426T092735Z
LAST-MODIFIED:20180426T092735Z
UID:134641-1525514400-1525546800@warlord-community.warlordgames.com
SUMMARY:Operation May Day - Steadfast Hobbies and Games; Hot Springs\, AR\, USA
DESCRIPTION:Steadfast is celebrating the month of May with Operation May Day\, a Bolt Action tournament. \n1250 points per player\nAll miniatures must be painted to a 3 color minimum with basing.\nDoors open at 10 with dice dropping at 11:00am\nWe will be playing 3 2.5 hour round with a 1 hour break for lunch after round 1 and a 30 minute break after round 2. \nEntry is $25 per person\, pre-register for a discounted entry of $20.\nWe will be paying out 100% of the entry fees in store credit with an additional $200 store credit added in. \nPrizes will be paid to:\nBest Over all\nBest General(most points)\nBest Painted\nFavorite Opponent
URL:https://warlord-community.warlordgames.com/event/operation-may-day-steadfast-hobbies-and-games-hot-springs-ar-usa/
LOCATION:Steadfast Hobbies and Games\, 1609 Albert Pike Rd\, Hot Springs\, AR\, 71913\, United States
CATEGORIES:Local Gaming Store,Tournament,Warlord Not Attending
END:VEVENT
END:VCALENDAR