BEGIN:VCALENDAR
VERSION:2.0
PRODID:-//Warlord Community - ECPv6.15.20//NONSGML v1.0//EN
CALSCALE:GREGORIAN
METHOD:PUBLISH
X-WR-CALNAME:Warlord Community
X-ORIGINAL-URL:https://warlord-community.warlordgames.com
X-WR-CALDESC:Events for Warlord Community
REFRESH-INTERVAL;VALUE=DURATION:PT1H
X-Robots-Tag:noindex
X-PUBLISHED-TTL:PT1H
BEGIN:VTIMEZONE
TZID:UTC
BEGIN:STANDARD
TZOFFSETFROM:+0000
TZOFFSETTO:+0000
TZNAME:UTC
DTSTART:20210101T000000
END:STANDARD
END:VTIMEZONE
BEGIN:VEVENT
DTSTART;TZID=UTC:20220423T080000
DTEND;TZID=UTC:20220424T170000
DTSTAMP:20260422T091608
CREATED:20220414T125618Z
LAST-MODIFIED:20220414T125618Z
UID:172923-1650700800-1650819600@warlord-community.warlordgames.com
SUMMARY:BrisCon
DESCRIPTION:Operation Potsdam – 2 Day Bolt Action Tournament\nSponsored by Warriors Den\nTwo Day Tournament – 5 Rounds of play\n\nEntry to the Event – $60 for both days\nAir conditioned Venue\nAll players must register for the tournament by visiting (www.Briscon.com.au) and must pay in advance via PayPal as per BrisCon instructions\nLight Refreshments Supplied\n3 Rounds of Play\nDay 1 & 2 Rounds of Play Day 2\nPrize Pool\, Trophies & Lucky Door Prizes\nLimited Space Available – Due to current COVID restrictions we are limited to 20 players
URL:https://warlord-community.warlordgames.com/event/briscon/
LOCATION:Mt Gravatt Showgrounds\, 1644 Logan Road\, Brisbane\, Queensland\, 4122\, Australia
CATEGORIES:Gaming Convention,Tournament
ORGANIZER;CN="Andrew Krarup":MAILTO:Andrew.Krarup@yahoo.com
END:VEVENT
END:VCALENDAR