BEGIN:VCALENDAR
VERSION:2.0
PRODID:-//Warlord Community - ECPv6.15.20//NONSGML v1.0//EN
CALSCALE:GREGORIAN
METHOD:PUBLISH
X-ORIGINAL-URL:https://warlord-community.warlordgames.com
X-WR-CALDESC:Events for Warlord Community
REFRESH-INTERVAL;VALUE=DURATION:PT1H
X-Robots-Tag:noindex
X-PUBLISHED-TTL:PT1H
BEGIN:VTIMEZONE
TZID:Europe/London
BEGIN:DAYLIGHT
TZOFFSETFROM:+0000
TZOFFSETTO:+0100
TZNAME:BST
DTSTART:20190331T010000
END:DAYLIGHT
BEGIN:STANDARD
TZOFFSETFROM:+0100
TZOFFSETTO:+0000
TZNAME:GMT
DTSTART:20191027T010000
END:STANDARD
BEGIN:DAYLIGHT
TZOFFSETFROM:+0000
TZOFFSETTO:+0100
TZNAME:BST
DTSTART:20200329T010000
END:DAYLIGHT
BEGIN:STANDARD
TZOFFSETFROM:+0100
TZOFFSETTO:+0000
TZNAME:GMT
DTSTART:20201025T010000
END:STANDARD
BEGIN:DAYLIGHT
TZOFFSETFROM:+0000
TZOFFSETTO:+0100
TZNAME:BST
DTSTART:20210328T010000
END:DAYLIGHT
BEGIN:STANDARD
TZOFFSETFROM:+0100
TZOFFSETTO:+0000
TZNAME:GMT
DTSTART:20211031T010000
END:STANDARD
END:VTIMEZONE
BEGIN:VEVENT
DTSTART;TZID=Europe/London:20200628T100000
DTEND;TZID=Europe/London:20200628T160000
DTSTAMP:20260420T014219
CREATED:20190911T124716Z
LAST-MODIFIED:20190911T124716Z
UID:168318-1593338400-1593360000@warlord-community.warlordgames.com
SUMMARY:PHOENIX 2020 - Penrith
DESCRIPTION:Do you want to make sure you are able pick up the warlord products you are after\, when you see us at this event? Then why not pre-order? \nTo pre-order for this even then drop customer service an email on info@warlordgames.com or give them a call on 0115 978 4495.  Make sure you contact us at least 5 days prior to the event so that we have time to process your order. We will then bring your order with us to the event and you can pay for your items when you pick them up.
URL:https://warlord-community.warlordgames.com/event/phoenix-2020-penrith/
LOCATION:Rheged Centre\, Redhills\, Penrith\, Cumbria\, CA11 0DQ\, United Kingdom
CATEGORIES:Wargames Show,Warlord Attending
END:VEVENT
BEGIN:VEVENT
DTSTART;TZID=Europe/London:20200628T100000
DTEND;TZID=Europe/London:20200628T160000
DTSTAMP:20260420T014219
CREATED:20191014T131948Z
LAST-MODIFIED:20191014T131948Z
UID:169832-1593338400-1593360000@warlord-community.warlordgames.com
SUMMARY:Valhalla 2020: Farnbourough
DESCRIPTION:Valhalla 20\nSunday\, 28th June 2020\n10.00 to 16.00\n​\nDETAILS TO FOLLOW\n​
URL:https://warlord-community.warlordgames.com/event/valhalla-2020-farnbourough/
LOCATION:Alderwood Community Centre (Connaught School)\, Tongham Road\, Aldershot\, GU12 4AS\, United Kingdom
CATEGORIES:Wargames Show,Warlord Attending
END:VEVENT
END:VCALENDAR