BEGIN:VCALENDAR
VERSION:2.0
PRODID:-//Warlord Community - ECPv6.15.20//NONSGML v1.0//EN
CALSCALE:GREGORIAN
METHOD:PUBLISH
X-ORIGINAL-URL:https://warlord-community.warlordgames.com
X-WR-CALDESC:Events for Warlord Community
REFRESH-INTERVAL;VALUE=DURATION:PT1H
X-Robots-Tag:noindex
X-PUBLISHED-TTL:PT1H
BEGIN:VTIMEZONE
TZID:Europe/London
BEGIN:DAYLIGHT
TZOFFSETFROM:+0000
TZOFFSETTO:+0100
TZNAME:BST
DTSTART:20190331T010000
END:DAYLIGHT
BEGIN:STANDARD
TZOFFSETFROM:+0100
TZOFFSETTO:+0000
TZNAME:GMT
DTSTART:20191027T010000
END:STANDARD
BEGIN:DAYLIGHT
TZOFFSETFROM:+0000
TZOFFSETTO:+0100
TZNAME:BST
DTSTART:20200329T010000
END:DAYLIGHT
BEGIN:STANDARD
TZOFFSETFROM:+0100
TZOFFSETTO:+0000
TZNAME:GMT
DTSTART:20201025T010000
END:STANDARD
BEGIN:DAYLIGHT
TZOFFSETFROM:+0000
TZOFFSETTO:+0100
TZNAME:BST
DTSTART:20210328T010000
END:DAYLIGHT
BEGIN:STANDARD
TZOFFSETFROM:+0100
TZOFFSETTO:+0000
TZNAME:GMT
DTSTART:20211031T010000
END:STANDARD
END:VTIMEZONE
BEGIN:VEVENT
DTSTART;TZID=Europe/London:20200627T090000
DTEND;TZID=Europe/London:20200627T180000
DTSTAMP:20260420T050801
CREATED:20191210T111027Z
LAST-MODIFIED:20191210T111027Z
UID:172460-1593248400-1593280800@warlord-community.warlordgames.com
SUMMARY:SELWG Bolt Action Summer Tournament
DESCRIPTION:A one day Bolt Action tournament organsied by the South East London Wargames Group. Please join us for a fun day of BA\, which will take the format of three 2 hour long missions. Both new and experienced players are very welcome.
URL:https://warlord-community.warlordgames.com/event/selwg-bolt-action-summer-tournament/
LOCATION:St Laurence Catford\, 35 Bromley Road \,\, Catford\, Lewisham\,\, SE6 2TS\, United Kingdom
CATEGORIES:Tournament,Warlord Attending,Warlord Not Attending
END:VEVENT
BEGIN:VEVENT
DTSTART;TZID=Europe/London:20200627T100000
DTEND;TZID=Europe/London:20200627T160000
DTSTAMP:20260420T050801
CREATED:20190911T124205Z
LAST-MODIFIED:20190911T124205Z
UID:168315-1593252000-1593273600@warlord-community.warlordgames.com
SUMMARY:Glasgow Games Gathering 2020
DESCRIPTION:Do you want to make sure you are able pick up the warlord products you are after\, when you see us at this event? Then why not pre-order? \nTo pre-order for this even then drop customer service an email on info@warlordgames.com or give them a call on 0115 978 4495.  Make sure you contact us at least 5 days prior to the event so that we have time to process your order. We will then bring your order with us to the event and you can pay for your items when you pick them up. \nWe’ve worked to bring some of your favourite miniature manufacturers and traders from all genres and sizes. They’ll be there with products galore\, and demo games so you can have a go. \nThat’s not all though\, we’ve also expanded\, and have some wonderful UK based board game companies coming along to show off their great games\, and offer demos so you can try them out before you buy. \nWe’ve also got some great clubs and individuals from all across Scotland running games for you to come and play from historical\, to fantasy and sci-fi\, tabletop\, boardgames\, and RPG. \nWe hope you join us in bringing this show to Glasgow\, so that wargamers\, boardgamers and roleplayers can get together for a day of gaming and browsing of traders. \nWhile we take every opportunity to ensure the details for Glasgow Games Gathering are accurate\, we always advise that you contact the event organiser before setting out for the event to avoid disapointment.
URL:https://warlord-community.warlordgames.com/event/glasgow-games-gathering-2020/
LOCATION:bellahouston Sports Centre\, Glasgow\, G52 1HH\, United Kingdom
CATEGORIES:Wargames Show,Warlord Attending
END:VEVENT
END:VCALENDAR