BEGIN:VCALENDAR
VERSION:2.0
PRODID:-//Warlord Community - ECPv6.15.20//NONSGML v1.0//EN
CALSCALE:GREGORIAN
METHOD:PUBLISH
X-ORIGINAL-URL:https://warlord-community.warlordgames.com
X-WR-CALDESC:Events for Warlord Community
REFRESH-INTERVAL;VALUE=DURATION:PT1H
X-Robots-Tag:noindex
X-PUBLISHED-TTL:PT1H
BEGIN:VTIMEZONE
TZID:Europe/London
BEGIN:DAYLIGHT
TZOFFSETFROM:+0000
TZOFFSETTO:+0100
TZNAME:BST
DTSTART:20190331T010000
END:DAYLIGHT
BEGIN:STANDARD
TZOFFSETFROM:+0100
TZOFFSETTO:+0000
TZNAME:GMT
DTSTART:20191027T010000
END:STANDARD
BEGIN:DAYLIGHT
TZOFFSETFROM:+0000
TZOFFSETTO:+0100
TZNAME:BST
DTSTART:20200329T010000
END:DAYLIGHT
BEGIN:STANDARD
TZOFFSETFROM:+0100
TZOFFSETTO:+0000
TZNAME:GMT
DTSTART:20201025T010000
END:STANDARD
BEGIN:DAYLIGHT
TZOFFSETFROM:+0000
TZOFFSETTO:+0100
TZNAME:BST
DTSTART:20210328T010000
END:DAYLIGHT
BEGIN:STANDARD
TZOFFSETFROM:+0100
TZOFFSETTO:+0000
TZNAME:GMT
DTSTART:20211031T010000
END:STANDARD
END:VTIMEZONE
BEGIN:VEVENT
DTSTART;TZID=Europe/London:20200418T100000
DTEND;TZID=Europe/London:20200418T170000
DTSTAMP:20260421T011030
CREATED:20190828T112844Z
LAST-MODIFIED:20190828T112844Z
UID:167523-1587204000-1587229200@warlord-community.warlordgames.com
SUMMARY:SALUTE 2020 - London Excel
DESCRIPTION:Salute Twenty Twenty will be held on Saturday the 18th of April 2020. Run by The South London Warlords\, is the biggest independent one-day wargaming and gaming event in the UK. Our aim is to promote the very best in the hobby. Held at ExCel London\, there will be the usual traders\, with some from overseas as well\, along with plenty of demonstration and participation games to see and take part in.
URL:https://warlord-community.warlordgames.com/event/salute-2020-london-excel/
LOCATION:Excel London\, Victoria Dock 1\, Western Gateway\, London\, E16 1XL\, United Kingdom
CATEGORIES:Wargames Show,Warlord Attending
END:VEVENT
END:VCALENDAR