BEGIN:VCALENDAR
VERSION:2.0
PRODID:-//Warlord Community - ECPv6.15.20//NONSGML v1.0//EN
CALSCALE:GREGORIAN
METHOD:PUBLISH
X-ORIGINAL-URL:https://warlord-community.warlordgames.com
X-WR-CALDESC:Events for Warlord Community
REFRESH-INTERVAL;VALUE=DURATION:PT1H
X-Robots-Tag:noindex
X-PUBLISHED-TTL:PT1H
BEGIN:VTIMEZONE
TZID:Europe/London
BEGIN:DAYLIGHT
TZOFFSETFROM:+0000
TZOFFSETTO:+0100
TZNAME:BST
DTSTART:20190331T010000
END:DAYLIGHT
BEGIN:STANDARD
TZOFFSETFROM:+0100
TZOFFSETTO:+0000
TZNAME:GMT
DTSTART:20191027T010000
END:STANDARD
BEGIN:DAYLIGHT
TZOFFSETFROM:+0000
TZOFFSETTO:+0100
TZNAME:BST
DTSTART:20200329T010000
END:DAYLIGHT
BEGIN:STANDARD
TZOFFSETFROM:+0100
TZOFFSETTO:+0000
TZNAME:GMT
DTSTART:20201025T010000
END:STANDARD
BEGIN:DAYLIGHT
TZOFFSETFROM:+0000
TZOFFSETTO:+0100
TZNAME:BST
DTSTART:20210328T010000
END:DAYLIGHT
BEGIN:STANDARD
TZOFFSETFROM:+0100
TZOFFSETTO:+0000
TZNAME:GMT
DTSTART:20211031T010000
END:STANDARD
END:VTIMEZONE
BEGIN:VEVENT
DTSTART;TZID=Europe/London:20200208T103000
DTEND;TZID=Europe/London:20200208T160000
DTSTAMP:20260421T120024
CREATED:20190821T103640Z
LAST-MODIFIED:20190821T103640Z
UID:167250-1581157800-1581177600@warlord-community.warlordgames.com
SUMMARY:BEACHHEAD - Bournemouth 2020
DESCRIPTION:Beachhead is an exciting tabletop games event\, and is\, for the fifth year\, \nbeing held at the Bournemouth International Centre on Saturday 8th February 2020. \nThis years show will be held across two halls\, more than doubling the size of the previous shows. \nThe tournament hall will run into a second day with Sunday 9th February being day two of Beachhead 2020. \nThe show attractes many participation and demonstration games\, \nalongside previously over 30 industry trade stands\, displaying an array of different models and games. \nThis year we have space for 50 traders…..contact the show to get your name down for earlier booking. \n  \nThere will be a greater emphasis on tabletop gaming as a whole in 2020 as this has been an expanding and popular area of the show the past two years. We will be hosting Board Games\, RPG and Card Games this year\, encompassing the whole of the hobby. \nThere are tournaments on site each year run by our local enthusiasts and clubs\, which have attracted many entrants. This year we have over 200 tables for tournaments\, email the show now if you would like to organise an event or put on a game. \n  \nAiming to showcase the very best in tabletop gaming\, \nBeachhead 2020 is a must in the calendar for anyone with an interest in this exciting and expanding genre! \n  \nYou can also find more information on this year’s show at it’s dedicated website at https://beachheadshow.co.uk/ \nFurther information on the show can be found on Facebook under Beachhead 2020.
URL:https://warlord-community.warlordgames.com/event/beachhead-bournemouth-2020/
LOCATION:The Bournemouth International Centre\, Exeter Road\, Bournemouth\, BH2 5BH
CATEGORIES:Tournament,Wargames Show,Warlord Attending
END:VEVENT
END:VCALENDAR