BEGIN:VCALENDAR
VERSION:2.0
PRODID:-//Warlord Community - ECPv6.15.20//NONSGML v1.0//EN
CALSCALE:GREGORIAN
METHOD:PUBLISH
X-WR-CALNAME:Warlord Community
X-ORIGINAL-URL:https://warlord-community.warlordgames.com
X-WR-CALDESC:Events for Warlord Community
REFRESH-INTERVAL;VALUE=DURATION:PT1H
X-Robots-Tag:noindex
X-PUBLISHED-TTL:PT1H
BEGIN:VTIMEZONE
TZID:Europe/London
BEGIN:DAYLIGHT
TZOFFSETFROM:+0000
TZOFFSETTO:+0100
TZNAME:BST
DTSTART:20190331T010000
END:DAYLIGHT
BEGIN:STANDARD
TZOFFSETFROM:+0100
TZOFFSETTO:+0000
TZNAME:GMT
DTSTART:20191027T010000
END:STANDARD
BEGIN:DAYLIGHT
TZOFFSETFROM:+0000
TZOFFSETTO:+0100
TZNAME:BST
DTSTART:20200329T010000
END:DAYLIGHT
BEGIN:STANDARD
TZOFFSETFROM:+0100
TZOFFSETTO:+0000
TZNAME:GMT
DTSTART:20201025T010000
END:STANDARD
BEGIN:DAYLIGHT
TZOFFSETFROM:+0000
TZOFFSETTO:+0100
TZNAME:BST
DTSTART:20210328T010000
END:DAYLIGHT
BEGIN:STANDARD
TZOFFSETFROM:+0100
TZOFFSETTO:+0000
TZNAME:GMT
DTSTART:20211031T010000
END:STANDARD
END:VTIMEZONE
BEGIN:VEVENT
DTSTART;TZID=Europe/London:20200201T100000
DTEND;TZID=Europe/London:20200202T170000
DTSTAMP:20260421T205202
CREATED:20190821T100722Z
LAST-MODIFIED:20190821T100722Z
UID:167247-1580551200-1580662800@warlord-community.warlordgames.com
SUMMARY:PAW - Plymouth 2020
DESCRIPTION:A two day event consisting of Tournaments and trade stands! \n  \nLook on there website as well as Facebook for details!
URL:https://warlord-community.warlordgames.com/event/paw-plymouth-2020/
LOCATION:Honicknowle Lane\, Honicknowle Lane\, Plymouth\, B26 2RZ\, United Kingdom
CATEGORIES:Tournament,Wargames Show,Warlord Attending
END:VEVENT
BEGIN:VEVENT
DTSTART;TZID=Europe/London:20200202T100000
DTEND;TZID=Europe/London:20200202T160000
DTSTAMP:20260421T205202
CREATED:20190821T113144Z
LAST-MODIFIED:20190821T113144Z
UID:167255-1580637600-1580659200@warlord-community.warlordgames.com
SUMMARY:VAPNARTAK - York 2020
DESCRIPTION:one of the first Big events of the year with a wide variety of particpation games and Traders!
URL:https://warlord-community.warlordgames.com/event/vapnartak-york-2020/
LOCATION:Ontario
CATEGORIES:Wargames Show,Warlord Attending
END:VEVENT
END:VCALENDAR