BEGIN:VCALENDAR
VERSION:2.0
PRODID:-//Warlord Community - ECPv6.15.20//NONSGML v1.0//EN
CALSCALE:GREGORIAN
METHOD:PUBLISH
X-WR-CALNAME:Warlord Community
X-ORIGINAL-URL:https://warlord-community.warlordgames.com
X-WR-CALDESC:Events for Warlord Community
REFRESH-INTERVAL;VALUE=DURATION:PT1H
X-Robots-Tag:noindex
X-PUBLISHED-TTL:PT1H
BEGIN:VTIMEZONE
TZID:Europe/London
BEGIN:DAYLIGHT
TZOFFSETFROM:+0000
TZOFFSETTO:+0100
TZNAME:BST
DTSTART:20180325T010000
END:DAYLIGHT
BEGIN:STANDARD
TZOFFSETFROM:+0100
TZOFFSETTO:+0000
TZNAME:GMT
DTSTART:20181028T010000
END:STANDARD
BEGIN:DAYLIGHT
TZOFFSETFROM:+0000
TZOFFSETTO:+0100
TZNAME:BST
DTSTART:20190331T010000
END:DAYLIGHT
BEGIN:STANDARD
TZOFFSETFROM:+0100
TZOFFSETTO:+0000
TZNAME:GMT
DTSTART:20191027T010000
END:STANDARD
BEGIN:DAYLIGHT
TZOFFSETFROM:+0000
TZOFFSETTO:+0100
TZNAME:BST
DTSTART:20200329T010000
END:DAYLIGHT
BEGIN:STANDARD
TZOFFSETFROM:+0100
TZOFFSETTO:+0000
TZNAME:GMT
DTSTART:20201025T010000
END:STANDARD
END:VTIMEZONE
BEGIN:VEVENT
DTSTART;TZID=Europe/London:20191116T100000
DTEND;TZID=Europe/London:20191117T170000
DTSTAMP:20260421T201236
CREATED:20190805T084232Z
LAST-MODIFIED:20190805T084232Z
UID:166259-1573898400-1574010000@warlord-community.warlordgames.com
SUMMARY:warfare 2019: Reading
DESCRIPTION:Warfare\, our annual wargames show\, is one of the largest in the country. This year\, it is being held on the 16th and 17th November 2019 \nShow Opening times \nSaturday 10am to 5pm \nSunday 10am to 4pm \nTraders will be confirmed over the year\, but we expect to have more than 70 of them. In addition\, our ever popular (and huge) bring and buy will be present. \nThere will be a number of demonstration and participation games\, as well as a large range of competitions. Watch this space for details. \nWarfare Charity for 2019 Sue Ryder Duchess of Kent Hospice
URL:https://warlord-community.warlordgames.com/event/warfare-2019-reading/
LOCATION:Rivermead Sports Complex\, Richfield Avenue\, Reading\, RG1 8EQ\, United Kingdom
CATEGORIES:Tournament,Wargames Show,Warlord Attending
END:VEVENT
END:VCALENDAR