BEGIN:VCALENDAR
VERSION:2.0
PRODID:-//Warlord Community - ECPv6.15.20//NONSGML v1.0//EN
CALSCALE:GREGORIAN
METHOD:PUBLISH
X-WR-CALNAME:Warlord Community
X-ORIGINAL-URL:https://warlord-community.warlordgames.com
X-WR-CALDESC:Events for Warlord Community
REFRESH-INTERVAL;VALUE=DURATION:PT1H
X-Robots-Tag:noindex
X-PUBLISHED-TTL:PT1H
BEGIN:VTIMEZONE
TZID:Europe/London
BEGIN:DAYLIGHT
TZOFFSETFROM:+0000
TZOFFSETTO:+0100
TZNAME:BST
DTSTART:20180325T010000
END:DAYLIGHT
BEGIN:STANDARD
TZOFFSETFROM:+0100
TZOFFSETTO:+0000
TZNAME:GMT
DTSTART:20181028T010000
END:STANDARD
BEGIN:DAYLIGHT
TZOFFSETFROM:+0000
TZOFFSETTO:+0100
TZNAME:BST
DTSTART:20190331T010000
END:DAYLIGHT
BEGIN:STANDARD
TZOFFSETFROM:+0100
TZOFFSETTO:+0000
TZNAME:GMT
DTSTART:20191027T010000
END:STANDARD
BEGIN:DAYLIGHT
TZOFFSETFROM:+0000
TZOFFSETTO:+0100
TZNAME:BST
DTSTART:20200329T010000
END:DAYLIGHT
BEGIN:STANDARD
TZOFFSETFROM:+0100
TZOFFSETTO:+0000
TZNAME:GMT
DTSTART:20201025T010000
END:STANDARD
END:VTIMEZONE
BEGIN:VEVENT
DTSTART;TZID=Europe/London:20191024T090000
DTEND;TZID=Europe/London:20191027T190000
DTSTAMP:20260422T224023
CREATED:20190805T073013Z
LAST-MODIFIED:20190805T073013Z
UID:166248-1571907600-1572202800@warlord-community.warlordgames.com
SUMMARY:Spiel 2019: Essen
DESCRIPTION:Internationale Spieltage SPIEL\nSPIEL in Essen means: Four days of fun\, meeting friends\, playing and testing thousands of games and novelties together with gamers from all over the world. Make up your own mind about the quality of the international gaming market and feel free to buy your favourite ones!
URL:https://warlord-community.warlordgames.com/event/spiel-2019-essen/
LOCATION:Messe Essen\, Norbertstr\, Essen\, Federal state North Rhine-Westphalia\, 45131\, Germany
CATEGORIES:Gaming Convention,Warlord Attending
END:VEVENT
END:VCALENDAR