BEGIN:VCALENDAR
VERSION:2.0
PRODID:-//Warlord Community - ECPv6.15.20//NONSGML v1.0//EN
CALSCALE:GREGORIAN
METHOD:PUBLISH
X-WR-CALNAME:Warlord Community
X-ORIGINAL-URL:https://warlord-community.warlordgames.com
X-WR-CALDESC:Events for Warlord Community
REFRESH-INTERVAL;VALUE=DURATION:PT1H
X-Robots-Tag:noindex
X-PUBLISHED-TTL:PT1H
BEGIN:VTIMEZONE
TZID:Europe/London
BEGIN:DAYLIGHT
TZOFFSETFROM:+0000
TZOFFSETTO:+0100
TZNAME:BST
DTSTART:20180325T010000
END:DAYLIGHT
BEGIN:STANDARD
TZOFFSETFROM:+0100
TZOFFSETTO:+0000
TZNAME:GMT
DTSTART:20181028T010000
END:STANDARD
BEGIN:DAYLIGHT
TZOFFSETFROM:+0000
TZOFFSETTO:+0100
TZNAME:BST
DTSTART:20190331T010000
END:DAYLIGHT
BEGIN:STANDARD
TZOFFSETFROM:+0100
TZOFFSETTO:+0000
TZNAME:GMT
DTSTART:20191027T010000
END:STANDARD
BEGIN:DAYLIGHT
TZOFFSETFROM:+0000
TZOFFSETTO:+0100
TZNAME:BST
DTSTART:20200329T010000
END:DAYLIGHT
BEGIN:STANDARD
TZOFFSETFROM:+0100
TZOFFSETTO:+0000
TZNAME:GMT
DTSTART:20201025T010000
END:STANDARD
END:VTIMEZONE
BEGIN:VEVENT
DTSTART;TZID=Europe/London:20191012T110000
DTEND;TZID=Europe/London:20191012T180000
DTSTAMP:20260423T052050
CREATED:20191002T103854Z
LAST-MODIFIED:20191002T103854Z
UID:169133-1570878000-1570903200@warlord-community.warlordgames.com
SUMMARY:Black Seas Launch Event
DESCRIPTION:Come and celebrate the release of Black Seas with us here at Warlord HQ. We’ll have demos galore and lead designer Gabrio on hand. \n \nOur store will be fully stocked with all the new Black Seas releases. In addition\, we’ll have four demo tables on which you can sample the brand new game. The lead designer of the game\, Gabrio Tolentino will be around and more than happy to demonstrate the game’s mechanics and answer any questions. \nA Black Seas demo at Full Sail\nA local collector and friend of Warlord will be with us between 12pm and 3pm on the day. He’ll have some amazing historical documents with him\, such as original letters from Nelson and 1st Edition Naval history books. A sample is below. \n\nDon’t miss this chance to see some fantastic artefacts in the flesh. Richard will be delighted to talk you through his collection and answer any questions you have. \n  \nCan’t make it to Warlord HQ? Why not check with a local stockist and see if they’ll be celebrating the launch of Black Seas? Find your local stockist: https://www.warlordgames.com/stockists/
URL:https://warlord-community.warlordgames.com/event/black-seas-launch-event/
LOCATION:Warlord HQ\, Unit 1 Central Ct\, Finch Cl\, Lenton\, Nottingham\, NG7 2NN\, United Kingdom
CATEGORIES:Demo day,Warlord Attending
END:VEVENT
END:VCALENDAR