BEGIN:VCALENDAR
VERSION:2.0
PRODID:-//Warlord Community - ECPv6.15.20//NONSGML v1.0//EN
CALSCALE:GREGORIAN
METHOD:PUBLISH
X-WR-CALNAME:Warlord Community
X-ORIGINAL-URL:https://warlord-community.warlordgames.com
X-WR-CALDESC:Events for Warlord Community
REFRESH-INTERVAL;VALUE=DURATION:PT1H
X-Robots-Tag:noindex
X-PUBLISHED-TTL:PT1H
BEGIN:VTIMEZONE
TZID:Europe/London
BEGIN:DAYLIGHT
TZOFFSETFROM:+0000
TZOFFSETTO:+0100
TZNAME:BST
DTSTART:20180325T010000
END:DAYLIGHT
BEGIN:STANDARD
TZOFFSETFROM:+0100
TZOFFSETTO:+0000
TZNAME:GMT
DTSTART:20181028T010000
END:STANDARD
BEGIN:DAYLIGHT
TZOFFSETFROM:+0000
TZOFFSETTO:+0100
TZNAME:BST
DTSTART:20190331T010000
END:DAYLIGHT
BEGIN:STANDARD
TZOFFSETFROM:+0100
TZOFFSETTO:+0000
TZNAME:GMT
DTSTART:20191027T010000
END:STANDARD
BEGIN:DAYLIGHT
TZOFFSETFROM:+0000
TZOFFSETTO:+0100
TZNAME:BST
DTSTART:20200329T010000
END:DAYLIGHT
BEGIN:STANDARD
TZOFFSETFROM:+0100
TZOFFSETTO:+0000
TZNAME:GMT
DTSTART:20201025T010000
END:STANDARD
END:VTIMEZONE
BEGIN:VEVENT
DTSTART;TZID=Europe/London:20190907T100000
DTEND;TZID=Europe/London:20190907T150000
DTSTAMP:20260421T201407
CREATED:20190804T130209Z
LAST-MODIFIED:20190804T130209Z
UID:166216-1567850400-1567868400@warlord-community.warlordgames.com
SUMMARY:BORDER REIVERS WARGAME SHOW 2019
DESCRIPTION:
URL:https://warlord-community.warlordgames.com/event/border-reivers-wargame-show-2019/
LOCATION:Gateshead International Stadium\, Neilson Road\, Gateshead\, NE10 0EF
CATEGORIES:Wargames Show,Warlord Attending
END:VEVENT
BEGIN:VEVENT
DTSTART;TZID=Europe/London:20190907T100000
DTEND;TZID=Europe/London:20190907T160000
DTSTAMP:20260421T201407
CREATED:20190804T130838Z
LAST-MODIFIED:20190804T130838Z
UID:166218-1567850400-1567872000@warlord-community.warlordgames.com
SUMMARY:Colours 2019: Newbury
DESCRIPTION:Colours 2019 is on!\n\nThe Newbury & Reading Wargames Society have voted to host Colours in 2019\, once again at Newbury Racecourse\, on Saturday the 7th September.\n\nThe usual opening time of 10am will be confirmed nearer the date.\n\nWe are plesed to annouce that the overall show is sponsored by KR Multicase.\nhttps://www.krmulticase.com/\n\n\n\n\nAdditionally\, this year Deep Cut Studio have generously offered to provide prizes for the demo and participation games.\n​https://www.deepcutstudio.com
URL:https://warlord-community.warlordgames.com/event/colours-2019-newbury/
LOCATION:Newbury Racecourse\, The Racecourse\, Newbury\, BERKSHIRE\, RG14 7NZ\, United Kingdom
CATEGORIES:Wargames Show,Warlord Attending
END:VEVENT
END:VCALENDAR