BEGIN:VCALENDAR
VERSION:2.0
PRODID:-//Warlord Community - ECPv6.15.20//NONSGML v1.0//EN
CALSCALE:GREGORIAN
METHOD:PUBLISH
X-WR-CALNAME:Warlord Community
X-ORIGINAL-URL:https://warlord-community.warlordgames.com
X-WR-CALDESC:Events for Warlord Community
REFRESH-INTERVAL;VALUE=DURATION:PT1H
X-Robots-Tag:noindex
X-PUBLISHED-TTL:PT1H
BEGIN:VTIMEZONE
TZID:Europe/London
BEGIN:DAYLIGHT
TZOFFSETFROM:+0000
TZOFFSETTO:+0100
TZNAME:BST
DTSTART:20180325T010000
END:DAYLIGHT
BEGIN:STANDARD
TZOFFSETFROM:+0100
TZOFFSETTO:+0000
TZNAME:GMT
DTSTART:20181028T010000
END:STANDARD
BEGIN:DAYLIGHT
TZOFFSETFROM:+0000
TZOFFSETTO:+0100
TZNAME:BST
DTSTART:20190331T010000
END:DAYLIGHT
BEGIN:STANDARD
TZOFFSETFROM:+0100
TZOFFSETTO:+0000
TZNAME:GMT
DTSTART:20191027T010000
END:STANDARD
BEGIN:DAYLIGHT
TZOFFSETFROM:+0000
TZOFFSETTO:+0100
TZNAME:BST
DTSTART:20200329T010000
END:DAYLIGHT
BEGIN:STANDARD
TZOFFSETFROM:+0100
TZOFFSETTO:+0000
TZNAME:GMT
DTSTART:20201025T010000
END:STANDARD
END:VTIMEZONE
BEGIN:VEVENT
DTSTART;TZID=Europe/London:20190720T080000
DTEND;TZID=Europe/London:20190720T170000
DTSTAMP:20260422T232553
CREATED:20190501T132931Z
LAST-MODIFIED:20190501T132931Z
UID:160704-1563609600-1563642000@warlord-community.warlordgames.com
SUMMARY:Warlord Games Open Day 2019
DESCRIPTION:Warlord Games Open Day \nJoin us on the 20th July for the Warlord Open Day! Tickets will be £10\, with free entry for Under 14s! Your ticket will also include an exclusive Warlord Games Open Day Miniature: \n \n \nWe have a whole day packed with previews\, gaming\, demos\, tours and game designer and Warlord talks. There are a limited number of tickets available so book yours now! \nWarlord Games Members have free entry and Open Day miniature – please contact our customer service team to book your free place. \nDoors open at 10 am and tours and talks are available on a first come first served basis as we have limited places. \nHere’s a quick preview of just some of the events that will be taking place on the day: \nSPQR \nIt will be Launch Day for our new Ancients Warband game SPQR! Come and have a play with our figures on our fully sculpted terrain tables. \nBlack Seas \nPlaytest and preview our forthcoming Napoleonic Naval Game\, Black Seas \nJudge Dredd \nPreview the latest models from our up-coming Judge Dredd game with our Studio team \nBolt Action \nBring your miniatures and battle on our Bolt Action tables with our Bolt Action Gurus and tournament organisers\, Gary and Colin Betts. \nCruel Seas Game \nCome and play our WWII Naval Wargame with Laurie Stewart of Leeds Night Owls! \nBlood Red Skies \nCome and play our popular air combat game! \nBolt Action\, Blood Red Skies and Cruel Seas Games played through the Open Day can all be entered as part of our summer campaign. \nBlack Powder \nThere will be a Napoleonic Battle with Steve from Arcane Scenery. You can also talk and Battle with Pete Brown author of our latest Black Powder book – Dark and Bloody Ground \nGates of Antares \nJoin in with an intro game of Gates of Antares and find out about our exciting plans for the future of the galactic busting game! \nPike & Shotte \nCome and see the enormous Battle of Lutzen game by the Friends of General Hague\, led by Andy Bartlett and inspired by Dr Dave James. \nKonflikt 47 \nFind out what’s going on in the post-war universe of Konflikt ’47  with the design team from Clockwork Goblin! \nTerrain modelling and Building \nWith special guests Steve from Sarissa\, Martyn and Justin from War World Scenics and Mel the Terrain tutor \nDoctor Who \nPlay some games of EXTERMINATE and find out about future developments with the Warlord team and special guests the Time Ladies! \nWe will be joined by our friends from Northstar\, Mantic\, River Horse who will each be bringing along their latest goodies and games! \n   \nGet your Warlord Games Open Day Ticket now: \n \n  \nView in Store
URL:https://warlord-community.warlordgames.com/event/warlord-games-open-day-2019/
LOCATION:Warlord HQ\, Unit 1 Central Ct\, Finch Cl\, Lenton\, Nottingham\, NG7 2NN\, United Kingdom
CATEGORIES:Demo day,Local Gaming Store,Warlord Attending
END:VEVENT
END:VCALENDAR