BEGIN:VCALENDAR
VERSION:2.0
PRODID:-//Warlord Community - ECPv6.15.20//NONSGML v1.0//EN
CALSCALE:GREGORIAN
METHOD:PUBLISH
X-WR-CALNAME:Warlord Community
X-ORIGINAL-URL:https://warlord-community.warlordgames.com
X-WR-CALDESC:Events for Warlord Community
REFRESH-INTERVAL;VALUE=DURATION:PT1H
X-Robots-Tag:noindex
X-PUBLISHED-TTL:PT1H
BEGIN:VTIMEZONE
TZID:Europe/London
BEGIN:DAYLIGHT
TZOFFSETFROM:+0000
TZOFFSETTO:+0100
TZNAME:BST
DTSTART:20190331T010000
END:DAYLIGHT
BEGIN:STANDARD
TZOFFSETFROM:+0100
TZOFFSETTO:+0000
TZNAME:GMT
DTSTART:20191027T010000
END:STANDARD
BEGIN:DAYLIGHT
TZOFFSETFROM:+0000
TZOFFSETTO:+0100
TZNAME:BST
DTSTART:20200329T010000
END:DAYLIGHT
BEGIN:STANDARD
TZOFFSETFROM:+0100
TZOFFSETTO:+0000
TZNAME:GMT
DTSTART:20201025T010000
END:STANDARD
BEGIN:DAYLIGHT
TZOFFSETFROM:+0000
TZOFFSETTO:+0100
TZNAME:BST
DTSTART:20210328T010000
END:DAYLIGHT
BEGIN:STANDARD
TZOFFSETFROM:+0100
TZOFFSETTO:+0000
TZNAME:GMT
DTSTART:20211031T010000
END:STANDARD
END:VTIMEZONE
BEGIN:VEVENT
DTSTART;TZID=Europe/London:20200301T100000
DTEND;TZID=Europe/London:20200301T160000
DTSTAMP:20260420T231431
CREATED:20190911T115710Z
LAST-MODIFIED:20190911T115710Z
UID:168309-1583056800-1583078400@warlord-community.warlordgames.com
SUMMARY:Overlord 2020 - Abingdon
DESCRIPTION:Do you want to make sure you are able pick up the warlord products you are after\, when you see us at this event? Then why not pre-order?\n\nTo pre-order for this even then drop customer service an email on info@warlordgames.com or give them a call on 0115 978 4495.  Make sure you contact us at least 5 days prior to the event so that we have time to process your order. We will then bring your order with us to the event and you can pay for your items when you pick them up.
URL:https://warlord-community.warlordgames.com/event/overlord-2020-abingdon/
LOCATION:Abingdon &Witney Colle\, Wooton road\, Abingdon\, OX14 1 GG\, United Kingdom
CATEGORIES:Wargames Show,Warlord Attending
END:VEVENT
BEGIN:VEVENT
DTSTART;TZID=Europe/London:20200314T100000
DTEND;TZID=Europe/London:20200314T163000
DTSTAMP:20260420T231431
CREATED:20190911T120135Z
LAST-MODIFIED:20190911T120135Z
UID:168313-1584180000-1584203400@warlord-community.warlordgames.com
SUMMARY:Hammerhead 2020 - Newark
DESCRIPTION:Do you want to make sure you are able pick up the warlord products you are after\, when you see us at this event? Then why not pre-order?\n\nTo pre-order for this even then drop customer service an email on info@warlordgames.com or give them a call on 0115 978 4495.  Make sure you contact us at least 5 days prior to the event so that we have time to process your order. We will then bring your order with us to the event and you can pay for your items when you pick them up.\n\n\nEntry To Hammerhead 2020\nThe Gamers Lounge and the George Stephenson Exhibition Hall Hammerhead open to the public at 10:00am and close at 4:30pm. The entry wristband gives access to both halls. \nEntry: £5 per adult\, £3 for minors (16 and under)\, Children under 9 free \nPurchase your Hammerhead Entry ticket online prior to the show and receive a FREE 28mm Hammerhead Miniature \nThe Prize Draw 2020 – £150 worth of prizes!\nLucky winners will receive our unique Letters of Marque (LOM)\, each with a monetary value\, First Prize £75\, Second Prize £50 and Third Prize £25\, only exchangeable with a trader at Hammerhead 2020 on the day. \nThe Hammerhead Figure\nThis year’s Hammerhead figure is Julius Caesar. The specially sculpted lead free pewter figure\, will be available for the first time on the day of the show for the token price of £1 each or recieve one free when you purchase your entry ticket online. \nThe Emperor Napoleon and the Duke of Wellington plus the WW1 Generals; British\, German\, French\, Austrian and Russian figures from Hammerhead 2014 – 2019\, will also be available to purchase on the day. \n\nThe Bring & Buy – Tabletop Sale\nHammerhead show will be hosting the popular Tabletop Sales in the George Stephenson Exhibition Hall.\nIf you are new to this\, you basically hire a table for one hour to sell your unwanted wargames items. You can deal directly with the buyers and answer any questions they may have. With no commission\, you keep all the profits. \nPlease note there will be limited tables available\, so its on a first come first served basis. \nBookings for the Tabletop Sales slots will be open from 1st February 2020 \nFor more information on the Tabletop Sale click here \nSocial Media\nCheck out the Hammerhead Show Facebook page and get all the up-to-date information. If you’re on Facebook give us a ‘Like’\, share the posts and spread the word – Hammerhead 2020 is at the Newark Showground on Saturday 14th March.
URL:https://warlord-community.warlordgames.com/event/hammerhead-2020-newark/
LOCATION:Newark Showground\, The Showground\, Lincoln Road\, Newark\, NG24 2NY
CATEGORIES:Wargames Show,Warlord Attending
END:VEVENT
END:VCALENDAR