BEGIN:VCALENDAR
VERSION:2.0
PRODID:-//Warlord Community - ECPv6.15.20//NONSGML v1.0//EN
CALSCALE:GREGORIAN
METHOD:PUBLISH
X-ORIGINAL-URL:https://warlord-community.warlordgames.com
X-WR-CALDESC:Events for Warlord Community
REFRESH-INTERVAL;VALUE=DURATION:PT1H
X-Robots-Tag:noindex
X-PUBLISHED-TTL:PT1H
BEGIN:VTIMEZONE
TZID:Europe/London
BEGIN:DAYLIGHT
TZOFFSETFROM:+0000
TZOFFSETTO:+0100
TZNAME:BST
DTSTART:20180325T010000
END:DAYLIGHT
BEGIN:STANDARD
TZOFFSETFROM:+0100
TZOFFSETTO:+0000
TZNAME:GMT
DTSTART:20181028T010000
END:STANDARD
BEGIN:DAYLIGHT
TZOFFSETFROM:+0000
TZOFFSETTO:+0100
TZNAME:BST
DTSTART:20190331T010000
END:DAYLIGHT
BEGIN:STANDARD
TZOFFSETFROM:+0100
TZOFFSETTO:+0000
TZNAME:GMT
DTSTART:20191027T010000
END:STANDARD
BEGIN:DAYLIGHT
TZOFFSETFROM:+0000
TZOFFSETTO:+0100
TZNAME:BST
DTSTART:20200329T010000
END:DAYLIGHT
BEGIN:STANDARD
TZOFFSETFROM:+0100
TZOFFSETTO:+0000
TZNAME:GMT
DTSTART:20201025T010000
END:STANDARD
END:VTIMEZONE
BEGIN:VTIMEZONE
TZID:Europe/Paris
BEGIN:DAYLIGHT
TZOFFSETFROM:+0100
TZOFFSETTO:+0200
TZNAME:CEST
DTSTART:20180325T010000
END:DAYLIGHT
BEGIN:STANDARD
TZOFFSETFROM:+0200
TZOFFSETTO:+0100
TZNAME:CET
DTSTART:20181028T010000
END:STANDARD
BEGIN:DAYLIGHT
TZOFFSETFROM:+0100
TZOFFSETTO:+0200
TZNAME:CEST
DTSTART:20190331T010000
END:DAYLIGHT
BEGIN:STANDARD
TZOFFSETFROM:+0200
TZOFFSETTO:+0100
TZNAME:CET
DTSTART:20191027T010000
END:STANDARD
BEGIN:DAYLIGHT
TZOFFSETFROM:+0100
TZOFFSETTO:+0200
TZNAME:CEST
DTSTART:20200329T010000
END:DAYLIGHT
BEGIN:STANDARD
TZOFFSETFROM:+0200
TZOFFSETTO:+0100
TZNAME:CET
DTSTART:20201025T010000
END:STANDARD
END:VTIMEZONE
BEGIN:VEVENT
DTSTART;TZID=Europe/London:20190901T100000
DTEND;TZID=Europe/London:20190901T160000
DTSTAMP:20260421T215102
CREATED:20190804T125627Z
LAST-MODIFIED:20190804T125627Z
UID:166214-1567332000-1567353600@warlord-community.warlordgames.com
SUMMARY:Hereward Wargames Show: Peterborough
DESCRIPTION:Peterborough Wargames Club proudly presents the Hereward Wargames show 2019. Sunday 1st September 2019\, The Cresset\, Bretton\, Peterborough. As usual we’ll have a great range of participation and demonstration games and traders. More details to follow as they are confirmed!
URL:https://warlord-community.warlordgames.com/event/hereward-wargames-show-peterborough-3/
LOCATION:The Cresset\, Bretton Centre\, Peterborough\, PE3 8DX\, United Kingdom
CATEGORIES:Wargames Show,Warlord Attending
END:VEVENT
BEGIN:VEVENT
DTSTART;TZID=Europe/London:20190907T100000
DTEND;TZID=Europe/London:20190907T150000
DTSTAMP:20260421T215102
CREATED:20190804T130209Z
LAST-MODIFIED:20190804T130209Z
UID:166216-1567850400-1567868400@warlord-community.warlordgames.com
SUMMARY:BORDER REIVERS WARGAME SHOW 2019
DESCRIPTION:
URL:https://warlord-community.warlordgames.com/event/border-reivers-wargame-show-2019/
LOCATION:Gateshead International Stadium\, Neilson Road\, Gateshead\, NE10 0EF
CATEGORIES:Wargames Show,Warlord Attending
END:VEVENT
BEGIN:VEVENT
DTSTART;TZID=Europe/London:20190907T100000
DTEND;TZID=Europe/London:20190907T160000
DTSTAMP:20260421T215102
CREATED:20190804T130838Z
LAST-MODIFIED:20190804T130838Z
UID:166218-1567850400-1567872000@warlord-community.warlordgames.com
SUMMARY:Colours 2019: Newbury
DESCRIPTION:Colours 2019 is on!\n\nThe Newbury & Reading Wargames Society have voted to host Colours in 2019\, once again at Newbury Racecourse\, on Saturday the 7th September.\n\nThe usual opening time of 10am will be confirmed nearer the date.\n\nWe are plesed to annouce that the overall show is sponsored by KR Multicase.\nhttps://www.krmulticase.com/\n\n\n\n\nAdditionally\, this year Deep Cut Studio have generously offered to provide prizes for the demo and participation games.\n​https://www.deepcutstudio.com
URL:https://warlord-community.warlordgames.com/event/colours-2019-newbury/
LOCATION:Newbury Racecourse\, The Racecourse\, Newbury\, BERKSHIRE\, RG14 7NZ\, United Kingdom
CATEGORIES:Wargames Show,Warlord Attending
END:VEVENT
BEGIN:VEVENT
DTSTART;TZID=Europe/London:20190913T080000
DTEND;TZID=Europe/London:20190913T170000
DTSTAMP:20260421T215102
CREATED:20190913T140035Z
LAST-MODIFIED:20190913T140035Z
UID:168497-1568361600-1568394000@warlord-community.warlordgames.com
SUMMARY:VALHALLA 2020 - Farnborough
DESCRIPTION:Do you want to make sure you are able pick up the warlord products you are after\, when you see us at this event? Then why not pre-order? \nTo pre-order for this even then drop customer service an email on info@warlordgames.com or give them a call on 0115 978 4495.  Make sure you contact us at least 5 days prior to the event so that we have time to process your order. We will then bring your order with us to the event and you can pay for your items when you pick them up.
URL:https://warlord-community.warlordgames.com/event/valhalla-2020-farnborough/
LOCATION:Farnborough Community Centre\, Off Meudan Avenue\, Farnborough\, GU14 7LE
CATEGORIES:Wargames Show,Warlord Attending
END:VEVENT
BEGIN:VEVENT
DTSTART;TZID=Europe/London:20190922T100000
DTEND;TZID=Europe/London:20190922T160000
DTSTAMP:20260421T215102
CREATED:20190804T131509Z
LAST-MODIFIED:20190804T131509Z
UID:166220-1569146400-1569168000@warlord-community.warlordgames.com
SUMMARY:Chillcon 2019: Derby
DESCRIPTION:Buy Tickets on the Chillcon website now!
URL:https://warlord-community.warlordgames.com/event/chillcon-derby/
LOCATION:allestre\, Blenheim Drive\, Derby\, DE22 2LW\, United Kingdom
CATEGORIES:Demo day,Wargames Show,Warlord Attending
END:VEVENT
BEGIN:VEVENT
DTSTART;TZID=Europe/Paris:20190927T140000
DTEND;TZID=Europe/Paris:20190929T190000
DTSTAMP:20260421T215102
CREATED:20190712T164417Z
LAST-MODIFIED:20190712T164417Z
UID:165047-1569592800-1569783600@warlord-community.warlordgames.com
SUMMARY:OPJH 2019 - Open de Paris des Jeux d'Histoire
DESCRIPTION:The OPJH is the annual event organized in Paris to promote the historical wargame in all its forms and where you will find companies and publishers presenting their games\, their new and future releases. \n\nWarlord Games will be attending this show for the first time ever this year\, on Saturday and Sunday only.\n\n\n\n a tournament area\n a free gaming area\n a prototype area to meet the authors and discover the successes of tomorrow\n a visit of the collections of the Dosne-Thiers Foundation\n a conference by historian Yann Le Bohec\n a history library and a bar / snack / relaxation area\n Tickets available online or at the door. Dayly ticket is 10€. Additional fee applys to tournament players. Free entry for visitors under 16 and Ladies.\n\nTric Trac d’Or – prize ceremony\n\nThe OPJH takes place in the beautiful salons of the Hotel Dosne – Thiers . It houses one of the most remarkable libraries dedicated to history.\n\n\nOPENING TIME \nFriday\, September 27th: 14h-22h \n\nSaturday\,September 28th: 9h-22h\nSunday29th September:9h-19h
URL:https://warlord-community.warlordgames.com/event/opjh-2019-open-de-paris-des-jeux-dhistoire/
LOCATION:Bibliothèque Thiers\, 27 place Saint-Georges\, Paris\, 75009\, France
CATEGORIES:Demo day,Gaming Convention,Wargames Show,Warlord Attending
END:VEVENT
BEGIN:VEVENT
DTSTART;TZID=Europe/London:20190928T100000
DTEND;TZID=Europe/London:20190929T170000
DTSTAMP:20260421T215102
CREATED:20190804T131849Z
LAST-MODIFIED:20190804T131849Z
UID:166224-1569664800-1569776400@warlord-community.warlordgames.com
SUMMARY:Table top Gaming Live 2019: Alexandra Palace
DESCRIPTION:Tabletop Gaming Live is back in London for 2019\, bigger and better!\nAfter a fantastic first year\, we’ll be bringing even more brand new and upcoming releases\, tournaments\, workshops\, talks\, and fun to the beautiful venue of Alexandra Palace on Saturday\, September 28th and Sunday 29th 2019. \nFrom the latest board game blockbusters to must-see miniatures and incredible indie RPGs\, Tabletop Gaming Live 2019 will give you the first chance to see and play some of the biggest and best releases of the year in the UK for the first time – and buy essential games to complete your collection. \nHear from designers in on-stage panels and improve your own skills with interactive workshops\, before winning exclusive goodies in tournaments and play sessions. And of course\, play loads of games! \nWhatever and however you play\, Tabletop Gaming Live is the place to be.
URL:https://warlord-community.warlordgames.com/event/table-top-gaming-live-2019-alexandra-palace/
LOCATION:Alexandra Palace\, Alexandra Palace WAy\, London\, N22 7AY\, United Kingdom
CATEGORIES:Demo day,Gaming Convention,Warlord Attending
END:VEVENT
END:VCALENDAR