BEGIN:VCALENDAR
VERSION:2.0
PRODID:-//Warlord Community - ECPv6.15.20//NONSGML v1.0//EN
CALSCALE:GREGORIAN
METHOD:PUBLISH
X-WR-CALNAME:Warlord Community
X-ORIGINAL-URL:https://warlord-community.warlordgames.com
X-WR-CALDESC:Events for Warlord Community
REFRESH-INTERVAL;VALUE=DURATION:PT1H
X-Robots-Tag:noindex
X-PUBLISHED-TTL:PT1H
BEGIN:VTIMEZONE
TZID:Europe/London
BEGIN:DAYLIGHT
TZOFFSETFROM:+0000
TZOFFSETTO:+0100
TZNAME:BST
DTSTART:20180325T010000
END:DAYLIGHT
BEGIN:STANDARD
TZOFFSETFROM:+0100
TZOFFSETTO:+0000
TZNAME:GMT
DTSTART:20181028T010000
END:STANDARD
BEGIN:DAYLIGHT
TZOFFSETFROM:+0000
TZOFFSETTO:+0100
TZNAME:BST
DTSTART:20190331T010000
END:DAYLIGHT
BEGIN:STANDARD
TZOFFSETFROM:+0100
TZOFFSETTO:+0000
TZNAME:GMT
DTSTART:20191027T010000
END:STANDARD
BEGIN:DAYLIGHT
TZOFFSETFROM:+0000
TZOFFSETTO:+0100
TZNAME:BST
DTSTART:20200329T010000
END:DAYLIGHT
BEGIN:STANDARD
TZOFFSETFROM:+0100
TZOFFSETTO:+0000
TZNAME:GMT
DTSTART:20201025T010000
END:STANDARD
END:VTIMEZONE
BEGIN:VEVENT
DTSTART;VALUE=DATE:20190803
DTEND;VALUE=DATE:20190804
DTSTAMP:20260421T214059
CREATED:20190802T150521Z
LAST-MODIFIED:20190802T150521Z
UID:166175-1564790400-1564876799@warlord-community.warlordgames.com
SUMMARY:Claymore 2019
DESCRIPTION:Scotland’s premier wargames show\, Claymore 2019\, will be held on Saturday 3rd August\, 2019\, at Edinburgh College’s Granton Campus. Doors will open to the public at 10.00 am \n  \nhttps://seswc.co.uk/2019/07/10/claymore-2019/
URL:https://warlord-community.warlordgames.com/event/claymore-2019/
LOCATION:Ontario
CATEGORIES:Wargames Show,Warlord Attending
END:VEVENT
BEGIN:VEVENT
DTSTART;TZID=Europe/London:20190810T100000
DTEND;TZID=Europe/London:20190811T160000
DTSTAMP:20260421T214059
CREATED:20190804T123943Z
LAST-MODIFIED:20190804T123943Z
UID:166210-1565431200-1565539200@warlord-community.warlordgames.com
SUMMARY:Britcon 2019: BHGS
DESCRIPTION:The 2019 Britcon Trade Show\nThe Britcon Trade Show will be returning to the now-familiar surroundings of the Barnes Wallis Building at Manchester Uni over the weekend of 10th-11th August 2018. \nJust come along and we will let you in for free – yes\, that’s right\, no entry cost at all! We know there is a recession out there\, so we want you to be able to spend all of your hard earned cash with our loyal traders… and you can’t say fairer than that!\n 
URL:https://warlord-community.warlordgames.com/event/britcon-2019-bhgs/
LOCATION:The University of Manchester\, Barnes Wallis Building\, Manchester\, M1 3NL
CATEGORIES:Tournament,Wargames Show,Warlord Attending
END:VEVENT
BEGIN:VEVENT
DTSTART;TZID=Europe/London:20190818T100000
DTEND;TZID=Europe/London:20190818T160000
DTSTAMP:20260421T214059
CREATED:20190804T124842Z
LAST-MODIFIED:20190804T124842Z
UID:166212-1566122400-1566144000@warlord-community.warlordgames.com
SUMMARY:The other Partizan 2019: Newark
DESCRIPTION:Welcome To Partizan\nFollowers of Partizan will know that we don’t like to boast about the shows\, we prefer to let them sell themselves. Hence the often understated advertising. We could\, for example\, claim to be ‘the best show in Nottinghamshire’\, or ‘probably the best one day show in the world’\, but we’d rather you came along and made your own mind up. If you want to know how good the games are look through some back issues of ‘Wargames Illustrated’\, ‘Battlegames’ or ‘WSS’. If you want to know what the show is like\, ask one of the listed traders how they rate it compared to other shows. Or ask a wargamer who knows…. \nAnd if you’re reading this from somewhere that we English would call ‘abroad’\, isn’t it time for that trip to England? \nNewark Irregulars/Partizan Team
URL:https://warlord-community.warlordgames.com/event/the-other-partizan-2019-newark/
LOCATION:Newark Showground\, The Showground\, Lincoln Road\, Newark\, NG24 2NY
CATEGORIES:Demo day,Wargames Show,Warlord Attending
END:VEVENT
END:VCALENDAR