BEGIN:VCALENDAR
VERSION:2.0
PRODID:-//Warlord Community - ECPv6.15.20//NONSGML v1.0//EN
CALSCALE:GREGORIAN
METHOD:PUBLISH
X-ORIGINAL-URL:https://warlord-community.warlordgames.com
X-WR-CALDESC:Events for Warlord Community
REFRESH-INTERVAL;VALUE=DURATION:PT1H
X-Robots-Tag:noindex
X-PUBLISHED-TTL:PT1H
BEGIN:VTIMEZONE
TZID:Europe/London
BEGIN:DAYLIGHT
TZOFFSETFROM:+0000
TZOFFSETTO:+0100
TZNAME:BST
DTSTART:20230326T010000
END:DAYLIGHT
BEGIN:STANDARD
TZOFFSETFROM:+0100
TZOFFSETTO:+0000
TZNAME:GMT
DTSTART:20231029T010000
END:STANDARD
BEGIN:DAYLIGHT
TZOFFSETFROM:+0000
TZOFFSETTO:+0100
TZNAME:BST
DTSTART:20240331T010000
END:DAYLIGHT
BEGIN:STANDARD
TZOFFSETFROM:+0100
TZOFFSETTO:+0000
TZNAME:GMT
DTSTART:20241027T010000
END:STANDARD
BEGIN:DAYLIGHT
TZOFFSETFROM:+0000
TZOFFSETTO:+0100
TZNAME:BST
DTSTART:20250330T010000
END:DAYLIGHT
BEGIN:STANDARD
TZOFFSETFROM:+0100
TZOFFSETTO:+0000
TZNAME:GMT
DTSTART:20251026T010000
END:STANDARD
END:VTIMEZONE
BEGIN:VTIMEZONE
TZID:UTC
BEGIN:STANDARD
TZOFFSETFROM:+0000
TZOFFSETTO:+0000
TZNAME:UTC
DTSTART:20210101T000000
END:STANDARD
END:VTIMEZONE
BEGIN:VEVENT
DTSTART;TZID=Europe/London:20240421T091500
DTEND;TZID=Europe/London:20240421T170000
DTSTAMP:20260421T052048
CREATED:20240308T122757Z
LAST-MODIFIED:20240308T123902Z
UID:200867-1713690900-1713718800@warlord-community.warlordgames.com
SUMMARY:Bolt Action: Objective Alpha
DESCRIPTION:Finally the doors will to Alphaspel will open to another amazing Bolt Action event! It’s been almost a year since the last time and we are happy to announce that the interest in “Objective Alpha” has been through the roof! We have increased the number of tables to accommodate all but there is still a waiting list. Which we think you should register for by the way! You never know\, things happen and there might be an open spot or two on short notice.  \nThe boards will be fantastic as we have some of Sweden’s finest terrain builders contributing with several tables – in fact ALL of the tables will be created by dedicated hobbyists. No scraped together piles of flock – quality battlefields on all 11 tables! If you are missing the event you will definitely be seeing a lot of it in the usual social media channels. \nTwo games of 1000 point generic forced platoons will be played. 3 hours for each game which should be plenty of time. During the lunch break you can get your meal at Alphaspel’s excellent restaurant. Coffee and other types of energy will be close by.  \nWe have a lot of prize support for this event and our goal is not only great prizes for the winners\, every player will have some kind of memorable mini to bring home! A prize for Best painted force will be awarded too of course. \nEven if you are not playing or maybe you are just interested in the game we would love to see you at Alphaspel on April 21st. Players are friendly and we are more than happy to give you a tour around the tables and explain some rules. \nWelcome!
URL:https://warlord-community.warlordgames.com/event/bolt-action-objective-alpha/
LOCATION:Alphaspel\, InstrumentvÃ¤gen 2  HÃ¤gersten\, Stockholm\, Stockholm\, 12653\, Sweden
CATEGORIES:Tournament,Warlord Games Open Day
ORGANIZER;CN="Jens Jadb%C3%A4ck":MAILTO:info@jensmagi.se
END:VEVENT
BEGIN:VEVENT
DTSTART;TZID=UTC:20220903T100000
DTEND;TZID=UTC:20220903T160000
DTSTAMP:20260421T052048
CREATED:20220721T101402Z
LAST-MODIFIED:20220721T101402Z
UID:173130-1662199200-1662220800@warlord-community.warlordgames.com
SUMMARY:Warlord Games Open Day 2022
DESCRIPTION:Warlord Games is throwing its doors wide open once again for our annual celebration of all things Warlord. Join with like-minded hobbyists to get a peek behind the scenes of what makes a miniatures company tick\, engage in conversation with our expert designers and painters to learn industry insights\, or participate in some good old-fashioned demonstration games. You might even spy some miniatures that haven’t quite made it to release just yet… \nThere’ll be a whirlwind of activity\, in fact\, there’s so much stuff we’re still ironing details out\, but we can confirm the following: \n\nHQ Tours – see behind the scenes and follow the journey from concept to despatch of Warlord Games games and models.\nSeminars from leading industry stalwarts including Andy Chambers\, Adrian McWalter\, Paul Sawyer and John Stallard.\nMeet our figure designers and painters – learn new techniques and find out how they generate such amazing results.\nMeet John Stallard and see his collection of historical artefacts.\nHail Caesar (War of the Roses) demonstration game by Alan & Michael Perry.\nBlood Red Skies participation game.\nSpecial Offers (including a discount from your ticket of £12 off from a starter game of your choice)\nRaffle in support of the Models for Heroes charity.\nCatering on site (including free tea and coffee).\nMore to be announced in the coming weeks…\n\nAs per all our Open Days\, there will be an exclusive figure free for all those who attend – this year is no exception but the miniature is not quite ready to show off yet! We can\, however\, reveal that this year’s Open Day miniature will portray legend of Special Forces\, Lieutenant-Colonel ‘Paddy’ Mayne. \n‘Paddy’ Mayne\n\n\n\nA celebrated athlete and sportsman prior to WWII\, the Irish-born Mayne represented both the British Lions and Ireland in rugby. His antics during the British Lions tour of 1938 became the stuff of legend – and frankly\, were a little bit bonkers. \nAccording to legend\, Mayne was recruited into the SAS from a prison cell (awaiting court martial for having struck a commanding officer) but injected much-needed success into the SAS operations in the campaigns of North Africa. Mayne personally claimed over 100 aircraft destroyed during airfield strikes over this period. \nMayne took command of 1st SAS Regiment in January 1943\, embarking on campaigns through Western Europe. His last feat of heroics occurred at the head of the Allied advance into Germany on 9th April 1945\, where he coolly drove a jeep up and down a road adjacent to a woodland near Oldenburg filled with German positions allowing his gunner to continuously pour fire into them. For this last action\, he was controversially not awarded a Victoria Cross. \nThe ‘Paddy’ Mayne miniature will be free to every attendee of the Open Day. If you are unable to attend the event itself and still want the miniature\, fear not\, it will also be available for sale on the Warlord Webstore between 3rd and 4th September 2022. Keep your eyes on the Warlord Games Newsletter over the coming weeks for the completed miniature! \nOn Sale Now\nThe Warlord Games Open Day will be taking place on September 3rd 2022.  Tickets are available here:
URL:https://warlord-community.warlordgames.com/event/warlord-games-open-day-2022/
LOCATION:Warlord HQ\, Unit 1 Central Ct\, Finch Cl\, Lenton\, Nottingham\, NG7 2NN\, United Kingdom
CATEGORIES:Warlord Attending,Warlord Games Open Day
ORGANIZER;CN="Warlord Games":MAILTO:info@warlordgames.com
END:VEVENT
END:VCALENDAR