BEGIN:VCALENDAR
VERSION:2.0
PRODID:-//Warlord Community - ECPv6.15.20//NONSGML v1.0//EN
CALSCALE:GREGORIAN
METHOD:PUBLISH
X-WR-CALNAME:Warlord Community
X-ORIGINAL-URL:https://warlord-community.warlordgames.com
X-WR-CALDESC:Events for Warlord Community
REFRESH-INTERVAL;VALUE=DURATION:PT1H
X-Robots-Tag:noindex
X-PUBLISHED-TTL:PT1H
BEGIN:VTIMEZONE
TZID:Europe/London
BEGIN:DAYLIGHT
TZOFFSETFROM:+0000
TZOFFSETTO:+0100
TZNAME:BST
DTSTART:20250330T010000
END:DAYLIGHT
BEGIN:STANDARD
TZOFFSETFROM:+0100
TZOFFSETTO:+0000
TZNAME:GMT
DTSTART:20251026T010000
END:STANDARD
BEGIN:DAYLIGHT
TZOFFSETFROM:+0000
TZOFFSETTO:+0100
TZNAME:BST
DTSTART:20260329T010000
END:DAYLIGHT
BEGIN:STANDARD
TZOFFSETFROM:+0100
TZOFFSETTO:+0000
TZNAME:GMT
DTSTART:20261025T010000
END:STANDARD
BEGIN:DAYLIGHT
TZOFFSETFROM:+0000
TZOFFSETTO:+0100
TZNAME:BST
DTSTART:20270328T010000
END:DAYLIGHT
BEGIN:STANDARD
TZOFFSETFROM:+0100
TZOFFSETTO:+0000
TZNAME:GMT
DTSTART:20271031T010000
END:STANDARD
END:VTIMEZONE
BEGIN:VEVENT
DTSTART;TZID=Europe/London:20260202T090000
DTEND;TZID=Europe/London:20260523T170000
DTSTAMP:20260422T030533
CREATED:20260217T141402Z
LAST-MODIFIED:20260217T165029Z
UID:209945-1770022800-1779555600@warlord-community.warlordgames.com
SUMMARY:Ligue Bolt Action Le Coin du jeu
DESCRIPTION:The League Bolt Action at Le Coin du Jeu is a must-attend event for historical wargamers who love tactical depth\, cinematic moments\, and a strong community atmosphere. Set in our welcoming local game store\, this league offers players the chance to command their armies through a series of linked games using the acclaimed Bolt Action ruleset. Whether you lead hardened veterans\, inexperienced conscripts\, or elite specialists\, each match emphasizes smart positioning\, combined arms tactics\, and narrative-driven scenarios inspired by World War II. Games are designed to be competitive yet accessible\, making the league perfect for both experienced commanders and newer players looking to sharpen their skills.\nWhat truly makes this league special is its friendly\, community-focused spirit. The emphasis is on learning\, sportsmanship\, and shared passion rather than cutthroat competition. Players will face a variety of opponents\, missions\, and tables\, ensuring that no two games feel the same. The league encourages beautifully painted armies\, thematic forces\, and historical inspiration\, while still leaving room for creative army building. Hosted by Le Coin du Jeu\, this event is the perfect opportunity to meet fellow enthusiasts\, roll dice\, tell war stories\, and fully immerse yourself in one of the best World War II tabletop experiences available. If you enjoy strategy\, history\, and great gaming company\, this league is absolutely for you.
URL:https://warlord-community.warlordgames.com/event/ligue-bolt-action-le-coin-du-jeu/
LOCATION:Le coin du jeu Mascouche\, 119 Mnt Masson\, Mascouche\, Quebec\, J7K 3B4\, Canada
CATEGORIES:Tournament,Warlord Not Attending
ORGANIZER;CN="JP Crites":MAILTO:jpcrites@hotmail.com 
END:VEVENT
BEGIN:VEVENT
DTSTART;TZID=Europe/London:20260309T090000
DTEND;TZID=Europe/London:20260531T180000
DTSTAMP:20260422T030533
CREATED:20260317T141555Z
LAST-MODIFIED:20260318T122231Z
UID:210405-1773046800-1780250400@warlord-community.warlordgames.com
SUMMARY:II Liga Bolt Action WARsztat w Radomiu
DESCRIPTION:We are organizing the second Bolt Action League in our city. Participants build their armies with the following restrictions:\n– 1250 points\n– maximum 16 order dice\n– maximum 1 Multiple Launcher \nThe league is designed to introduce the game to our local community and encourage regular Bolt Action play. It helps new players learn the rules\, build army lists\, paint their miniatures\, and develop tactics. It is also a way to prepare players for tournaments and larger events across Poland. \nNew players in our community get the opportunity to learn the system through regular games. Beginners are allowed to play with unpainted armies and may change their army lists twice during the league. This format helps create a welcoming player environment\, encourages regular battles\, and supports the growth of the Bolt Action community in Radom.
URL:https://warlord-community.warlordgames.com/event/ii-liga-bolt-action-warsztat-w-radomiu/
LOCATION:13\, Czarna\, Radom\, Saxony-Anhalt\, 26-600\, Poland
CATEGORIES:Tournament,Warlord Not Attending
ORGANIZER;CN="Filip Kowalski":MAILTO:dogtagpainting@gmail.com
END:VEVENT
BEGIN:VEVENT
DTSTART;TZID=Europe/London:20260317T090000
DTEND;TZID=Europe/London:20260516T170000
DTSTAMP:20260422T030533
CREATED:20260319T170222Z
LAST-MODIFIED:20260324T104150Z
UID:210454-1773738000-1778950800@warlord-community.warlordgames.com
SUMMARY:The Hobby Smith Bolt Action Escalation League 2026
DESCRIPTION:Gather ’round commanders! Starting this January we are proud to bring you the areas first Bolt Action Escalation League\, brought to you by Hobby Smith! We are Colorado Springs leading retailer and resource for Bolt Action and Warlord Games products. \nThis event will see you organize and deploy your forces through a series of league days. Starting with a small 500 point skirmish\, that later escalates to a 750 point and then a 1000 point match. Eventually you’ll make your way to a full force of 1250pts and with enough determination\, lead your forces to victory! The missions are set and the fighting will be intense! \nAfter the first 4 game days and winners are determined through their fierce strategic prowess\, we are then led into our final game/event day\, TANK FEST! this is a full on\, free for all\, tank only battle with each player commanding 1500 points of armour pitted against each of the other 18 league players on a massive 15ft game table! The player who manages to inflict the most damage and keep their men safe will be awarded the 2026 Tank Ace Award! \nScoring and event details are available in the Escalation League packet!
URL:https://warlord-community.warlordgames.com/event/the-hobby-smith-bolt-action-escalation-league-2026/
LOCATION:Hobby Smith\, 3029 Jet Wing Drive\, Colorado Springs\, 80916\, United States
CATEGORIES:Tournament,Warlord Not Attending
ORGANIZER;CN="Rafael Rodriguez":MAILTO:Hobbysmithinfo@gmail.com
END:VEVENT
BEGIN:VEVENT
DTSTART;TZID=Europe/London:20260502T080000
DTEND;TZID=Europe/London:20260502T163000
DTSTAMP:20260422T030533
CREATED:20260217T121358Z
LAST-MODIFIED:20260217T135758Z
UID:209937-1777708800-1777739400@warlord-community.warlordgames.com
SUMMARY:Spring Offensive
DESCRIPTION:The Spring Offensive Bolt Action tournament is taking place in conjunction with the annual MayDay event that is occurring May 1-3\, 2026. This event gathers tabletop and board gamers together to meet people and play games. The Spring Offensive Bolt Action tournament is the first Bolt Action tournament in a couple of years. It will be a great opportunity to play friendly\, competitive games as well as for newer players to get games in and meet other local players. This will also help our Bolt Action community have a goal to finish their armies for the event!\nThere will be awards for Best General\, Sportsmanship\, and Best Painted Army. There will also be additional prizes for everyone to make it a positive tournament experience. Furthermore\, there will be a pizza lunch included as part of the entry fee. There is a strong Bolt Action community in the Edmonton area and we are hoping to keep it alive through fun events!
URL:https://warlord-community.warlordgames.com/event/spring-offensive-2/
LOCATION:5\, ulica Tadeusza Kościuszki\, Wieliczka\, Lesser Poland\, 32-020\, Poland
CATEGORIES:Tournament,Warlord Not Attending
ORGANIZER;CN="Jon Benson":MAILTO:jonmbenson@gmail.com
END:VEVENT
BEGIN:VEVENT
DTSTART;TZID=Europe/London:20260502T090000
DTEND;TZID=Europe/London:20260502T190000
DTSTAMP:20260422T030533
CREATED:20260410T145756Z
LAST-MODIFIED:20260414T151110Z
UID:210644-1777712400-1777748400@warlord-community.warlordgames.com
SUMMARY:Richmond Open Bolt Action Tournament
DESCRIPTION:Join us for a full day of WWII action in a friendly but competitive Bolt Action tournament! Whether you’re a battle-hardened veteran of many tabletop wars or just stepping into the fray for the first time\, this event is designed for both new and experienced players.\nArmy lists are designed with 1\,250 points maximum and follow all the third edition list composition rules. The main rule book\, currently released Armies of books\, and the Minor Nation PDFs found on the Warlord Community website will be allowed. The event will consist of 3 2 1/2 hour rounds with a one hour lunch break and awards at the end. Will you take home first\, second\, third\, best sport\, or best painted? Scenarios will be announced prior to each round\, and all scenarios will be from the main rule book.\nWhether you’re looking to test your tactical mettle\, meet new players\, or simply enjoy rolling dice and recreating WWII battles\, this event has something for you. Expect a friendly atmosphere\, exciting scenarios\, and plenty of hobby inspiration.
URL:https://warlord-community.warlordgames.com/event/richmond-open-bolt-action-tournament/
LOCATION:Meadow Event Park\, 13191 Dawn Blvd\, Doswell\, 23047\, United States
CATEGORIES:Tournament,Warlord Not Attending
ORGANIZER;CN="Kalissa Skibicki":MAILTO:lissa_0729@yahoo.com
END:VEVENT
BEGIN:VEVENT
DTSTART;TZID=Europe/London:20260502T100000
DTEND;TZID=Europe/London:20260502T130000
DTSTAMP:20260422T030533
CREATED:20260310T125811Z
LAST-MODIFIED:20260410T124655Z
UID:210618-1777716000-1777726800@warlord-community.warlordgames.com
SUMMARY:BLACK SEAS Various Skill Level Games at SAND WARS 2026
DESCRIPTION:Sand Wars is back for 2026\, and this year we are proud to be partnering with Warlord again after\na brief absence. Bring our two most popular games in the American Southwest with us\, we will be taking\nsouth Phoenix by storm\, or sturm if you will. Reaching out across the Southwest\, HMGS-PSW will be\nbringing together 15 to 25 players per day from around the region. We hope that this will encourage new\nfriendships and ideas to take home with you. And if this is not enough\, you can join us in October for our\nannual monstrous event at the Las Vegas Open. Players are encouraged to bring their own painted\nmodels\, and we will have extras you can borrow to help fill in the armies first come first served.\nStart the weekend by Sailing in Saturday morning. Players can participate in our regional darling\ngame Black Seas. We will be offering a Demo table to try out the game mechanics for the first time!\nPerhaps just a turn\, at the Demo Table – but maybe you would join us for a full game. We will also have 4\ntables arranged for introductory multiplayer games. Then for the most daring of Captains\, we will have\none of our toughest players in the region available for a full on player versus player game. And yes\,\nbelieve it or not\, we will be offering prizes to scenario winners\, etc.\nBut wait… there is more. Between the shadows of Area 51\, Alamogordo\, and Fort Huchuka the\nupdated version of Konflikt’47 brings to life all of the “What Ifs” from the region that could have\nhappened during World War 2. This is more than just one of the hottest wargames in the United States at\nthe moment. Players can join us for a variety of events on Saturday afternoon\, and Sunday morning\,\nagain meeting players from around the Southwest to connect with\, and get new ideas. Saturday will\nfeature the Narrative Missions from the core rulebook\, along with a Demo Table for people wanting their\nfirst taste of this exciting game. Sunday beyond the Demo Table\, players can launch into the Story\nMissions from the hot new Festung Europa Rift War Book. Expect an amazing afternoon and/or evening\nweathering the sturm.
URL:https://warlord-community.warlordgames.com/event/black-seas-various-skill-level-games-at-sand-wars-2026/
LOCATION:American Legion Post 35\, 2240 W Chandler Blvd\, Chandler\, 85224\, United States
CATEGORIES:Tournament,Warlord Not Attending
ORGANIZER;CN="Jason Coffey":MAILTO: jayce921@yahoo.com 
END:VEVENT
BEGIN:VEVENT
DTSTART;TZID=Europe/London:20260502T100000
DTEND;TZID=Europe/London:20260502T200000
DTSTAMP:20260422T030533
CREATED:20260223T102043Z
LAST-MODIFIED:20260225T104334Z
UID:209986-1777716000-1777752000@warlord-community.warlordgames.com
SUMMARY:Operation Proximate Causes
DESCRIPTION:The causes of World War II have been given considerable attention by historians. The immediate precipitating event was the invasion of Poland by Nazi Germany on September 1\, 1939\, and the subsequent declarations of war on Germany made by Britain and France. During this time the Second Sino-Japanese War and the Soviet–Japanese border war was occurring in East Asia. Then on 10 May 1940\, Germany invaded Belgium\, Luxembourg\, the Netherlands and parts of France. \nEvent Summary:\nOperation Proximate Causes is a three game thematic tournament event focused on thematic armies\, giving players an opportunity to try out forces they wouldn’t usually get a chance to use at other organized tournaments. This event will be set in the Early War era (1939-1941)\, with tables set up to represent various themes and battles during that timeframe.
URL:https://warlord-community.warlordgames.com/event/operation-proximate-causes/
LOCATION:Thunder Forge Gaming\,\, 30 E Main St\, Tipp City\, 45371\, United States
CATEGORIES:Tournament,Warlord Not Attending
ORGANIZER;CN="Kurt Klaus":MAILTO:kurt.klaus0715@gmail.com
END:VEVENT
BEGIN:VEVENT
DTSTART;TZID=Europe/London:20260502T140000
DTEND;TZID=Europe/London:20260502T170000
DTSTAMP:20260422T030533
CREATED:20260410T115055Z
LAST-MODIFIED:20260410T124712Z
UID:210616-1777730400-1777741200@warlord-community.warlordgames.com
SUMMARY:Konflikt’47 Various Skill Level Narrative Games at SAND WARS 2026
DESCRIPTION:Sand Wars is back for 2026\, and this year we are proud to be partnering with Warlord again after\na brief absence. Bring our two most popular games in the American Southwest with us\, we will be taking\nsouth Phoenix by storm\, or sturm if you will. Reaching out across the Southwest\, HMGS-PSW will be\nbringing together 15 to 25 players per day from around the region. We hope that this will encourage new\nfriendships and ideas to take home with you. And if this is not enough\, you can join us in October for our\nannual monstrous event at the Las Vegas Open. Players are encouraged to bring their own painted\nmodels\, and we will have extras you can borrow to help fill in the armies first come first served.\nBut wait… there is more. Between the shadows of Area 51\, Alamogordo\, and Fort Huchuka the\nupdated version of Konflikt’47 brings to life all of the “What Ifs” from the region that could have\nhappened during World War 2. This is more than just one of the hottest wargames in the United States at\nthe moment. Players can join us for a variety of events on Saturday afternoon\, and Sunday morning\,\nagain meeting players from around the Southwest to connect with\, and get new ideas. Saturday will\nfeature the Narrative Missions from the core rulebook\, along with a Demo Table for people wanting their\nfirst taste of this exciting game. Sunday beyond the Demo Table\, players can launch into the Story\nMissions from the hot new Festung Europa Rift War Book. Expect an amazing afternoon and/or evening\nweathering the sturm.
URL:https://warlord-community.warlordgames.com/event/konflikt47-various-skill-level-narrative-games-at-sand-wars-2026-2/
LOCATION:American Legion Post 35\, 2240 W Chandler Blvd\, Chandler\, 85224\, United States
CATEGORIES:Tournament,Warlord Not Attending
ORGANIZER;CN="Jason Coffey":MAILTO: jayce921@yahoo.com 
END:VEVENT
END:VCALENDAR