BEGIN:VCALENDAR
VERSION:2.0
PRODID:-//Warlord Community - ECPv6.15.20//NONSGML v1.0//EN
CALSCALE:GREGORIAN
METHOD:PUBLISH
X-ORIGINAL-URL:https://warlord-community.warlordgames.com
X-WR-CALDESC:Events for Warlord Community
REFRESH-INTERVAL;VALUE=DURATION:PT1H
X-Robots-Tag:noindex
X-PUBLISHED-TTL:PT1H
BEGIN:VTIMEZONE
TZID:Europe/London
BEGIN:DAYLIGHT
TZOFFSETFROM:+0000
TZOFFSETTO:+0100
TZNAME:BST
DTSTART:20250330T010000
END:DAYLIGHT
BEGIN:STANDARD
TZOFFSETFROM:+0100
TZOFFSETTO:+0000
TZNAME:GMT
DTSTART:20251026T010000
END:STANDARD
BEGIN:DAYLIGHT
TZOFFSETFROM:+0000
TZOFFSETTO:+0100
TZNAME:BST
DTSTART:20260329T010000
END:DAYLIGHT
BEGIN:STANDARD
TZOFFSETFROM:+0100
TZOFFSETTO:+0000
TZNAME:GMT
DTSTART:20261025T010000
END:STANDARD
BEGIN:DAYLIGHT
TZOFFSETFROM:+0000
TZOFFSETTO:+0100
TZNAME:BST
DTSTART:20270328T010000
END:DAYLIGHT
BEGIN:STANDARD
TZOFFSETFROM:+0100
TZOFFSETTO:+0000
TZNAME:GMT
DTSTART:20271031T010000
END:STANDARD
END:VTIMEZONE
BEGIN:VEVENT
DTSTART;TZID=Europe/London:20260506T170000
DTEND;TZID=Europe/London:20260902T170000
DTSTAMP:20260422T042033
CREATED:20260320T131402Z
LAST-MODIFIED:20260420T130938Z
UID:210739-1778086800-1788368400@warlord-community.warlordgames.com
SUMMARY:Never interrupt your enemy when he is making a mistake!
DESCRIPTION:Gravesend Gamers Guild presents a bolt action slow grow league. Never interrupt your enemy when he is making a mistake! Join us\, as we take commanders on a four-month journey from green recruits to battle-hardened veterans. Whether you’re a seasoned general or just mustering your first platoon\, this event is built to be welcome to all skill levels. Each month\, players will fight two games against randomly assigned opponents\, with missions and army sizes escalating as your force grows from a modest 500-point detachment to a fully realised 1250-point army. With no fixed army lists (beyond your chosen nation)\, you’ll have the freedom to adapt your forces as the campaign unfolds. But\, this isn’t just about winning—it’s about how you play the game. The GGG has a strong emphasis on sportsmanship\, creativity\, and thematic armies\, as such our prize support celebrates the spirit of the hobby as much as battlefield success. \nExpect evolving objectives\, unexpected twists\, and a grand finale scenario packed with intriguing randomness to cap off the campaign. To keep things fresh and unpredictable\, we’ve introduced unique mechanics such as steal able intelligence—snatch vital enemy information to grant your commander the coveted Intelligence Officer ability… but beware\, as it can be taken right back! Secret secondary objectives will also keep players guessing\, adding layers of intrigue and tactical depth to every engagement. So rally your troops\, prepare your strategies\, and join us on the battlefield. \nMore details can be found here: https://docs.google.com/document/d/1XCp9Cc-S6s6s4coK11BV6g7Wpp-4g1ytaYsP7IUORVg/edit?usp=sharing
URL:https://warlord-community.warlordgames.com/event/never-interrupt-your-enemy-when-he-is-making-a-mistake/
LOCATION:Gravesend Gamers Guild\, The Three Daws Town Pier\, Gravesend\, Kent\, DA11 0BJ\, United Kingdom
CATEGORIES:Tournament,Warlord Not Attending
ORGANIZER;CN="James Crook":MAILTO:gravesendgamersguildcommittee@gmail.com
END:VEVENT
BEGIN:VEVENT
DTSTART;TZID=Europe/London:20260605T080000
DTEND;TZID=Europe/London:20260606T163000
DTSTAMP:20260422T042033
CREATED:20260317T114446Z
LAST-MODIFIED:20260318T122243Z
UID:210396-1780646400-1780763400@warlord-community.warlordgames.com
SUMMARY:Garonne Guerre Totale
DESCRIPTION:Garonne Guerre Totale is a two-day Bolt Action V3 event designed to bring together the regional community for high-quality games. We have selected a 750-point format to ensure tactical\, fast-paced encounters across multiple rounds. To emphasize the role of infantry and maneuver warfare\, we use a specific scenario rule where only infantry units are capable of capturing objectives. \nOur focus is on providing a professional setup\, including 10 to 15 fully-equipped tables and full on-site catering for all participants. The goal is to offer a well-structured tournament environment where fair play and the hobby are at the forefront. While the Bolt Action tournament is our main attraction\, the venue serves as a general hobby hub for the weekend\, welcoming players from various systems in a friendly and dedicated atmosphere.
URL:https://warlord-community.warlordgames.com/event/garonne-guerre-totale/
LOCATION:Salle Prévert\, Avenue François Mitterrand\, Dupérié\, Bon-Encontre\, 47510\, France
CATEGORIES:Tournament,Warlord Not Attending
ORGANIZER;CN="Alain-Pierre FORSANS":MAILTO:alainpierreforsans@gmail.com
END:VEVENT
BEGIN:VEVENT
DTSTART;TZID=Europe/London:20260606T090000
DTEND;TZID=Europe/London:20260606T180000
DTSTAMP:20260422T042033
CREATED:20260224T102030Z
LAST-MODIFIED:20260225T104256Z
UID:210002-1780736400-1780768800@warlord-community.warlordgames.com
SUMMARY:Operation Shrike – Winter War
DESCRIPTION:Take Bolt Action to a cold Climate as we theme a day of Bolt Action around all things snowy and frozen. You will play three games of Bolt Action throughout the day\, using the extra rules for ice\, snow and mud to provide some unique challenges for our commanders.
URL:https://warlord-community.warlordgames.com/event/operation-shrike-winter-war/
LOCATION:Garrison Wargaming Club of South Australia\, Inc. 2 Whinnen St\, St Agnes\, South Australia\, 5097\, Australia
CATEGORIES:Tournament,Warlord Not Attending
ORGANIZER;CN="Darren Merritt":MAILTO:shrike.hq500@gmail.com
END:VEVENT
BEGIN:VEVENT
DTSTART;TZID=Europe/London:20260606T100000
DTEND;TZID=Europe/London:20260606T180000
DTSTAMP:20260422T042033
CREATED:20260319T172315Z
LAST-MODIFIED:20260324T104155Z
UID:210455-1780740000-1780768800@warlord-community.warlordgames.com
SUMMARY:2nd Annual Holy Roller Tournament
DESCRIPTION:The Holy Roller is a Southern Ontario Bolt Action Circuit (SOBA) PREMIUM EVENT. It is named after our local Sherman III\, one of only 2 Canadian Tanks to land on D-Day and survive to the end of the war. It is the only London event during the SOBA season and we are pulling out all the stops. Not a SOBA Member? No problem\, everyone is welcome. 1250 point lists. Players will compete in 3 games over the course of the day to see who will be crowned the Holy Roller. Think you’ve got what it takes? This tournament is the place to prove it. In addition to prize support from Warlord Games\, we have some local establishments with ties to the Holy Roller also donating prizes. The day will culminate with a post-tournament gathering for all who wish to attend at Toboggan Brewing Co. where they have graciously offered a discount to tournament players.
URL:https://warlord-community.warlordgames.com/event/2nd-annual-holy-roller-tournament/
LOCATION:The Game Chamber\, 1700 Dundas St Unit 7\, London\, Ontario\, N5W 3C9\, Canada
CATEGORIES:Tournament,Warlord Not Attending
ORGANIZER;CN="Geofry Kristoff":MAILTO:geofry.kristoff@rogers.com 
END:VEVENT
BEGIN:VEVENT
DTSTART;TZID=Europe/London:20260606T100000
DTEND;TZID=Europe/London:20260607T190000
DTSTAMP:20260422T042033
CREATED:20260410T134357Z
LAST-MODIFIED:20260414T151102Z
UID:210637-1780740000-1780858800@warlord-community.warlordgames.com
SUMMARY:D-Day Overlord Memorial 2026
DESCRIPTION:This is a non-competitive event that will be held at the Torre Nera Club in Forlì on June 6-7\, 2025. Players will find themselves fighting some of the main battles of D-Day and the following days\, following the chronological progression of events. The first day will be dedicated to the landings of American\, British and Canadian troops and to the sabotage actions of the partisans and English and American paratroopers. The second day of Battles will be dedicated to inland operations\, urban and tank battles\, and we will have a table dedicated to a very particular mission\, designed for the event where the special forces and ground troops will have to take possession of an important port in German hands\, sink a submarine in the dock and sabotage a railway line. We will use historically accurate lists using the V2 campaign books as references but with the V3 army selection method. A perfect event to immerse yourself in the atmosphere of the D-Day campaign!
URL:https://warlord-community.warlordgames.com/event/d-day-overlord-memorial-2026/
LOCATION:Torre Nera APS\, 172 Ravegnana street\, Forlì\, Emilia-Romagna\, 47122\, Italy
CATEGORIES:Tournament,Warlord Not Attending
ORGANIZER;CN="Igor Buscherini":MAILTO:doiganes@hotmail.it
END:VEVENT
BEGIN:VEVENT
DTSTART;TZID=Europe/London:20260613T100000
DTEND;TZID=Europe/London:20260613T180000
DTSTAMP:20260422T042033
CREATED:20260413T151144Z
LAST-MODIFIED:20260414T151114Z
UID:210658-1781344800-1781373600@warlord-community.warlordgames.com
SUMMARY:Bolt Action Summer Offensive
DESCRIPTION:“Our Bolt Action Summer Offensive will be a fun\, hobby-first three round event. Players will create an 800 point army (15 order dice max) following the normal platoon building process. No FAO’s (Artillery or Air) or weapons with greater than a 2″ template are allowed. Vehicle armor is limited to 8+ on any facing. Bring something fun or cool in your list or something you don’t normally get to play with. Avoid min-maxing as there are plenty of other events where you can do that. \nPlayers will be challenged by specially designed missions for the event where total VP’s scored across each of the three missions will be used to determine player rankings so it is not only important to win but also to secure as many VP’s as possible with that win. Awards will be given for Best Overall\, Best Axis\, Best Allied and Wooden Spoon which will be based solely on VP’s. Best Looking army will also receive an award.”
URL:https://warlord-community.warlordgames.com/event/bolt-action-summer-offensive/
LOCATION:3010\, Sterling Ave\, Peoria\, 61604\, United States
CATEGORIES:Tournament,Warlord Not Attending
ORGANIZER;CN="Darrin Zielinski":MAILTO:dczsabre@gmail.com
END:VEVENT
BEGIN:VEVENT
DTSTART;TZID=Europe/London:20260620T090000
DTEND;TZID=Europe/London:20260621T153000
DTSTAMP:20260422T042033
CREATED:20260317T155409Z
LAST-MODIFIED:20260318T122224Z
UID:210412-1781946000-1782055800@warlord-community.warlordgames.com
SUMMARY:Bitwa o Łódź
DESCRIPTION:The Vanguard Association calls all commanders to the battlefield!\nThe “Battle of Łódź” is coming—the second edition of the largest Bolt Action tournament in the Łódź Voivodeship. Once again\, armies will march into battle\, and the gaming tables will transform into fields of fierce combat\, where victory will be decided by tactics\, courage\, and a bit of luck.\nThis year\, we’ve prepared two days of intense competition for 30 commanders who will face off in a series of five battles played in the 1250-point format. Each clash will be a new story—featuring infantry maneuvers\, the roar of cannons\, and dramatic counterattacks for every scrap of terrain.\nThe tournament will take place under a covered tennis court in a wooded area\, with access to comfortable hotel accommodations. It’s the perfect place to briefly immerse yourself in the world of battles\, strategy\, and the passion for model-making.\nBut the Battle of Łódź isn’t just about competition. It’s also a celebration of the hobby. That’s why\, in addition to the tournament prizes\, we’ve prepared two special contests:\n🏆 Best Battle Table – for the creators of the most atmospheric battlefields\n🎨 Best-Painted Army – for commanders whose troops impress with their modeling craftsmanship\nThe top three places in each category will be awarded.\nAnd when the last shots have fallen silent and the dust has settled on the battlefields\, we’ll gather around the bonfire to celebrate the summer solstice together—an ancient Slavic time of joy\, fire\, and community. It will be the perfect opportunity for conversation\, sharing experiences\, and bonding among fellow enthusiasts.\nGather your army. Prepare your strategy. History is waiting for you to write it.\nYou can’t miss this. See you in Tuszyn!
URL:https://warlord-community.warlordgames.com/event/bitwa-o-lodz/
LOCATION:Hotel Grzegorzewski\, 3 Maja 59\, 95-080\, Łódź Voivodeship\, 95-080\, Poland
CATEGORIES:Tournament,Warlord Not Attending
ORGANIZER;CN="Rados%C5%82aw Jab%C5%82o%C5%84ski":MAILTO:VanguardBoltAction@gmail.com
END:VEVENT
END:VCALENDAR