BEGIN:VCALENDAR
VERSION:2.0
PRODID:-//Warlord Community - ECPv6.15.20//NONSGML v1.0//EN
CALSCALE:GREGORIAN
METHOD:PUBLISH
X-WR-CALNAME:Warlord Community
X-ORIGINAL-URL:https://warlord-community.warlordgames.com
X-WR-CALDESC:Events for Warlord Community
REFRESH-INTERVAL;VALUE=DURATION:PT1H
X-Robots-Tag:noindex
X-PUBLISHED-TTL:PT1H
BEGIN:VTIMEZONE
TZID:Europe/London
BEGIN:DAYLIGHT
TZOFFSETFROM:+0000
TZOFFSETTO:+0100
TZNAME:BST
DTSTART:20180325T010000
END:DAYLIGHT
BEGIN:STANDARD
TZOFFSETFROM:+0100
TZOFFSETTO:+0000
TZNAME:GMT
DTSTART:20181028T010000
END:STANDARD
BEGIN:DAYLIGHT
TZOFFSETFROM:+0000
TZOFFSETTO:+0100
TZNAME:BST
DTSTART:20190331T010000
END:DAYLIGHT
BEGIN:STANDARD
TZOFFSETFROM:+0100
TZOFFSETTO:+0000
TZNAME:GMT
DTSTART:20191027T010000
END:STANDARD
BEGIN:DAYLIGHT
TZOFFSETFROM:+0000
TZOFFSETTO:+0100
TZNAME:BST
DTSTART:20200329T010000
END:DAYLIGHT
BEGIN:STANDARD
TZOFFSETFROM:+0100
TZOFFSETTO:+0000
TZNAME:GMT
DTSTART:20201025T010000
END:STANDARD
END:VTIMEZONE
BEGIN:VEVENT
DTSTART;TZID=Europe/London:20190824T100000
DTEND;TZID=Europe/London:20190824T180000
DTSTAMP:20260421T175736
CREATED:20190724T151945Z
LAST-MODIFIED:20190724T151945Z
UID:2488-1566640800-1566669600@warlord-community.warlordgames.com
SUMMARY:Dice and Decks: Korea Event
DESCRIPTION:Join us for a day of gaming Bolt Action Korea!
URL:https://warlord-community.warlordgames.com/event/dice-and-decks-korea-event/
LOCATION:Dice And Decks\, 8-10 Hoghton Street\, Southport\, Southport\, PR9 0TF\, United Kingdom
CATEGORIES:Events,Korea - Campaign Book Event
ATTACH;FMTTYPE=:
ORGANIZER;CN="Dice And Decks":MAILTO:sales@diceanddecks.com
END:VEVENT
BEGIN:VEVENT
DTSTART;TZID=Europe/London:20190824T110000
DTEND;TZID=Europe/London:20190824T173000
DTSTAMP:20260421T175736
CREATED:20190715T234447Z
LAST-MODIFIED:20190715T234447Z
UID:2466-1566644400-1566667800@warlord-community.warlordgames.com
SUMMARY:Warlord HQ Store: Korea Event
DESCRIPTION:Following the release of Bolt Action: Korea\, we will have a full days open play for faction coins and LE dice for all participants to kick off the New Warlord Organized play. Call or drop by to register for the event.
URL:https://warlord-community.warlordgames.com/event/warlord-hq-store-korea-event/
LOCATION:Warlord HQ Store\, Unit 1 Central Court\, Finch Close\, Nottingham\, Nottinghamshire\, NG7 2NN\, United Kingdom
CATEGORIES:Events,Korea - Campaign Book Event
ATTACH;FMTTYPE=:
ORGANIZER;CN="Warlord Games":MAILTO:info@warlordgames.com
END:VEVENT
END:VCALENDAR