BEGIN:VCALENDAR
VERSION:2.0
PRODID:-//Warlord Community - ECPv6.15.20//NONSGML v1.0//EN
CALSCALE:GREGORIAN
METHOD:PUBLISH
X-WR-CALNAME:Warlord Community
X-ORIGINAL-URL:https://warlord-community.warlordgames.com
X-WR-CALDESC:Events for Warlord Community
REFRESH-INTERVAL;VALUE=DURATION:PT1H
X-Robots-Tag:noindex
X-PUBLISHED-TTL:PT1H
BEGIN:VTIMEZONE
TZID:Europe/London
BEGIN:DAYLIGHT
TZOFFSETFROM:+0000
TZOFFSETTO:+0100
TZNAME:BST
DTSTART:20210328T010000
END:DAYLIGHT
BEGIN:STANDARD
TZOFFSETFROM:+0100
TZOFFSETTO:+0000
TZNAME:GMT
DTSTART:20211031T010000
END:STANDARD
BEGIN:DAYLIGHT
TZOFFSETFROM:+0000
TZOFFSETTO:+0100
TZNAME:BST
DTSTART:20220327T010000
END:DAYLIGHT
BEGIN:STANDARD
TZOFFSETFROM:+0100
TZOFFSETTO:+0000
TZNAME:GMT
DTSTART:20221030T010000
END:STANDARD
BEGIN:DAYLIGHT
TZOFFSETFROM:+0000
TZOFFSETTO:+0100
TZNAME:BST
DTSTART:20230326T010000
END:DAYLIGHT
BEGIN:STANDARD
TZOFFSETFROM:+0100
TZOFFSETTO:+0000
TZNAME:GMT
DTSTART:20231029T010000
END:STANDARD
END:VTIMEZONE
BEGIN:VEVENT
DTSTART;VALUE=DATE:20220218
DTEND;VALUE=DATE:20220222
DTSTAMP:20260424T070612
CREATED:20220215T105008Z
LAST-MODIFIED:20220215T105008Z
UID:172862-1645142400-1645487999@warlord-community.warlordgames.com
SUMMARY:Strategicon
DESCRIPTION:On behalf of all the volunteers and hard-working staff that bring you the Strategicon family of strategy game conventions\, our warmest greetings! We are sure that you will find the convention to be a pleasant and memorable experience\, and hope that you make many new friends in this wonderful atmosphere of gaming. Strategicon brings to you the widest array of family\, historical\, fantasy\, and science fiction board\, card\, computer\, miniatures\, and roleplaying games at each and every one of our conventions. We hope that you pay a visit to the various game retailers and manufacturers in the dealer area of the convention\, or perhaps attend some of the many seminars\, demonstrations\, displays\, tournaments\, and events that make up this convention. Feel free to mingle and ask questions. Gamers\, like all people\, love to talk about their hobby! Strategicon sponsors Southern California’s largest game conventions: Orccon – Presidents’ Day Weekend Gamex – Memorial Day Weekend Gateway – Labor Day Weekend.
URL:https://warlord-community.warlordgames.com/event/stratigicon/
LOCATION:Hilton LA Airport\, 5711 W Century Blvd.\, Los Angeles\, CA\, 90045\, United States
CATEGORIES:Gaming Convention
END:VEVENT
END:VCALENDAR