BEGIN:VCALENDAR
VERSION:2.0
PRODID:-//Warlord Community - ECPv6.15.20//NONSGML v1.0//EN
CALSCALE:GREGORIAN
METHOD:PUBLISH
X-WR-CALNAME:Warlord Community
X-ORIGINAL-URL:https://warlord-community.warlordgames.com
X-WR-CALDESC:Events for Warlord Community
REFRESH-INTERVAL;VALUE=DURATION:PT1H
X-Robots-Tag:noindex
X-PUBLISHED-TTL:PT1H
BEGIN:VTIMEZONE
TZID:Europe/London
BEGIN:DAYLIGHT
TZOFFSETFROM:+0000
TZOFFSETTO:+0100
TZNAME:BST
DTSTART:20210328T010000
END:DAYLIGHT
BEGIN:STANDARD
TZOFFSETFROM:+0100
TZOFFSETTO:+0000
TZNAME:GMT
DTSTART:20211031T010000
END:STANDARD
BEGIN:DAYLIGHT
TZOFFSETFROM:+0000
TZOFFSETTO:+0100
TZNAME:BST
DTSTART:20220327T010000
END:DAYLIGHT
BEGIN:STANDARD
TZOFFSETFROM:+0100
TZOFFSETTO:+0000
TZNAME:GMT
DTSTART:20221030T010000
END:STANDARD
BEGIN:DAYLIGHT
TZOFFSETFROM:+0000
TZOFFSETTO:+0100
TZNAME:BST
DTSTART:20230326T010000
END:DAYLIGHT
BEGIN:STANDARD
TZOFFSETFROM:+0100
TZOFFSETTO:+0000
TZNAME:GMT
DTSTART:20231029T010000
END:STANDARD
END:VTIMEZONE
BEGIN:VEVENT
DTSTART;VALUE=DATE:20220206
DTEND;VALUE=DATE:20220210
DTSTAMP:20260424T232001
CREATED:20220113T163922Z
LAST-MODIFIED:20220113T163922Z
UID:172814-1644105600-1644451199@warlord-community.warlordgames.com
SUMMARY:Spring Fair
DESCRIPTION:** This is a Trade Event**\nHave you visited Spring Fair yet? Warlord Games will be at the UK’s most diverse\, relevant and exciting buying destination for wholesale home\, gift and fashion. We will be at Stand: Hall 5 5J24 \nShowcasing products from The Waterloo Campaign\, Judge Dredd\, Bolt Action and many more lines. We look forward to seeing you
URL:https://warlord-community.warlordgames.com/event/spring-fair-2022/
LOCATION:National Exhibition Centre (NEC)\, North Ave\, Marston Green\, Birmingham\, West Midlands\, B40 1NT\, United Kingdom
CATEGORIES:Gaming Convention
END:VEVENT
END:VCALENDAR