BEGIN:VCALENDAR
VERSION:2.0
PRODID:-//Warlord Community - ECPv6.15.20//NONSGML v1.0//EN
CALSCALE:GREGORIAN
METHOD:PUBLISH
X-ORIGINAL-URL:https://warlord-community.warlordgames.com
X-WR-CALDESC:Events for Warlord Community
REFRESH-INTERVAL;VALUE=DURATION:PT1H
X-Robots-Tag:noindex
X-PUBLISHED-TTL:PT1H
BEGIN:VTIMEZONE
TZID:UTC
BEGIN:STANDARD
TZOFFSETFROM:+0000
TZOFFSETTO:+0000
TZNAME:UTC
DTSTART:20200101T000000
END:STANDARD
END:VTIMEZONE
BEGIN:VTIMEZONE
TZID:Europe/London
BEGIN:DAYLIGHT
TZOFFSETFROM:+0000
TZOFFSETTO:+0100
TZNAME:BST
DTSTART:20200329T010000
END:DAYLIGHT
BEGIN:STANDARD
TZOFFSETFROM:+0100
TZOFFSETTO:+0000
TZNAME:GMT
DTSTART:20201025T010000
END:STANDARD
BEGIN:DAYLIGHT
TZOFFSETFROM:+0000
TZOFFSETTO:+0100
TZNAME:BST
DTSTART:20210328T010000
END:DAYLIGHT
BEGIN:STANDARD
TZOFFSETFROM:+0100
TZOFFSETTO:+0000
TZNAME:GMT
DTSTART:20211031T010000
END:STANDARD
BEGIN:DAYLIGHT
TZOFFSETFROM:+0000
TZOFFSETTO:+0100
TZNAME:BST
DTSTART:20220327T010000
END:DAYLIGHT
BEGIN:STANDARD
TZOFFSETFROM:+0100
TZOFFSETTO:+0000
TZNAME:GMT
DTSTART:20221030T010000
END:STANDARD
END:VTIMEZONE
BEGIN:VEVENT
DTSTART;VALUE=DATE:20211111
DTEND;VALUE=DATE:20211115
DTSTAMP:20260422T210450
CREATED:20211007T122855Z
LAST-MODIFIED:20211007T122855Z
UID:172760-1636588800-1636934399@warlord-community.warlordgames.com
SUMMARY:MilleniumCon 2021
DESCRIPTION:MillenniumCon is a four day convention that supports Tabletop Wargames with Historical Miniatures. It provides a unique event to celebrate our passion for the hobby. Since our focus is on miniatures\, we are proud to call MillenniumCon the largest miniature convention in Texas!\n\nWarlord Games is fully represented with Jon Russell and his great crew attending.  We are also holding numerous WG games on the schedule.  This year we already SOLD OUT (after 5-day registration) our Texas Championship Bolt Action Tournament.  We also have the following on the schedule:\n\n\nBolt Action Tank War\nBlood Red Skies Tournament\nPike and Shotte\nHUGE American Civil War EPIC\nBlack Powder – ECW\nBlack Powder – Mexican Revolution\nBlack Powder – AWI\nBlack Powder – ACW\nWarlords of Erehwon\nBeyond the Gates of Antares\nCruel Seas\nHail Caesar
URL:https://warlord-community.warlordgames.com/event/milleniumcon-2021/
LOCATION:Wingate Hotel & Conference Center\, 1209 North Interstate Highway 35\, Round Rock\, TX\, 78664\, United States
CATEGORIES:Events,Gaming Convention,Warlord Attending
ATTACH;FMTTYPE=:
ORGANIZER;CN="Lone Star Historical Miniatures":MAILTO:https://forms.gle/6Q1eS63ZiHmxckCA6
END:VEVENT
BEGIN:VEVENT
DTSTART;VALUE=DATE:20211113
DTEND;VALUE=DATE:20211114
DTSTAMP:20260422T210450
CREATED:20211027T152510Z
LAST-MODIFIED:20211027T152510Z
UID:172775-1636761600-1636847999@warlord-community.warlordgames.com
SUMMARY:Salute 2021
DESCRIPTION:Salute 2021 will be held on Saturday the 13th of November 2021. Run by The South London Warlords\, is the biggest independent one-day wargaming and gaming event in the UK. Our aim is to promote the very best in the hobby. Held at ExCel London\, there will be the usual traders\, along with plenty of demonstration and participation games to see and take part in.
URL:https://warlord-community.warlordgames.com/event/salute-2021/
LOCATION:Excel London\, Victoria Dock 1\, Western Gateway\, London\, E16 1XL\, United Kingdom
CATEGORIES:Gaming Convention,Warlord Attending
ATTACH;FMTTYPE=:
END:VEVENT
BEGIN:VEVENT
DTSTART;VALUE=DATE:20211119
DTEND;VALUE=DATE:20211122
DTSTAMP:20260422T210450
CREATED:20211101T085934Z
LAST-MODIFIED:20211101T085934Z
UID:172782-1637280000-1637539199@warlord-community.warlordgames.com
SUMMARY:Renegade Open 2021
DESCRIPTION:Join us for the Renegade Open\, the largest wargaming convention in Minnesota!\nNovember 19th-21st \n\n\n\n\nHosting many game systems\, players come from far and wide to roll dice\, push models around and have a great time! \n2021 will see events for:\nWarhammer 40\,000\nWarhammer Age Of Sigmar\nKill Team\nBolt Action\nKings of War\nBatman The Miniature Game\nAnd more!
URL:https://warlord-community.warlordgames.com/event/renegade-open-2021/
LOCATION:Crowne Plaza – Minneapolis West\, 3131 Campus Drive\, Plymouth\, MN\, 55441\, United States
CATEGORIES:Gaming Convention,Tournament
ATTACH;FMTTYPE=:
END:VEVENT
END:VCALENDAR