BEGIN:VCALENDAR
VERSION:2.0
PRODID:-//Warlord Community - ECPv6.15.20//NONSGML v1.0//EN
CALSCALE:GREGORIAN
METHOD:PUBLISH
X-ORIGINAL-URL:https://warlord-community.warlordgames.com
X-WR-CALDESC:Events for Warlord Community
REFRESH-INTERVAL;VALUE=DURATION:PT1H
X-Robots-Tag:noindex
X-PUBLISHED-TTL:PT1H
BEGIN:VTIMEZONE
TZID:Europe/London
BEGIN:DAYLIGHT
TZOFFSETFROM:+0000
TZOFFSETTO:+0100
TZNAME:BST
DTSTART:20150329T010000
END:DAYLIGHT
BEGIN:STANDARD
TZOFFSETFROM:+0100
TZOFFSETTO:+0000
TZNAME:GMT
DTSTART:20151025T010000
END:STANDARD
BEGIN:DAYLIGHT
TZOFFSETFROM:+0000
TZOFFSETTO:+0100
TZNAME:BST
DTSTART:20160327T010000
END:DAYLIGHT
BEGIN:STANDARD
TZOFFSETFROM:+0100
TZOFFSETTO:+0000
TZNAME:GMT
DTSTART:20161030T010000
END:STANDARD
BEGIN:DAYLIGHT
TZOFFSETFROM:+0000
TZOFFSETTO:+0100
TZNAME:BST
DTSTART:20170326T010000
END:DAYLIGHT
BEGIN:STANDARD
TZOFFSETFROM:+0100
TZOFFSETTO:+0000
TZNAME:GMT
DTSTART:20171029T010000
END:STANDARD
END:VTIMEZONE
BEGIN:VEVENT
DTSTART;TZID=Europe/London:20161007T080000
DTEND;TZID=Europe/London:20161009T170000
DTSTAMP:20260420T045916
CREATED:20161007T070000Z
LAST-MODIFIED:20161007T070000Z
UID:111385-1475827200-1476032400@warlord-community.warlordgames.com
SUMMARY:Great Falls Gaming Rendezvous - Bolt Action event (USA)
DESCRIPTION:Great Falls Gaming Rendezvous\, the home of Great Falls’ only annual gaming convention hosting a variety of different games and activities ranging from Roleplaying Games\, Board & Card games\, Video Games\, Gaming Panels\, a Costuming Contest\, and much much more. \nColumbus Day Weekend\, October 7-9\, 2016 at the Holiday Inn\, 1100 5th St S.
URL:https://warlord-community.warlordgames.com/event/great-falls-gaming-rendezvous-bolt-action-event-usa/
LOCATION:Holiday Inn\, 1100 5th St S\, Great Falls\, MT\, United States
CATEGORIES:Gaming Convention,Warlord Not Attending
END:VEVENT
END:VCALENDAR