BEGIN:VCALENDAR
VERSION:2.0
PRODID:-//Warlord Community - ECPv6.15.20//NONSGML v1.0//EN
CALSCALE:GREGORIAN
METHOD:PUBLISH
X-WR-CALNAME:Warlord Community
X-ORIGINAL-URL:https://warlord-community.warlordgames.com
X-WR-CALDESC:Events for Warlord Community
REFRESH-INTERVAL;VALUE=DURATION:PT1H
X-Robots-Tag:noindex
X-PUBLISHED-TTL:PT1H
BEGIN:VTIMEZONE
TZID:Europe/London
BEGIN:DAYLIGHT
TZOFFSETFROM:+0000
TZOFFSETTO:+0100
TZNAME:BST
DTSTART:20240331T010000
END:DAYLIGHT
BEGIN:STANDARD
TZOFFSETFROM:+0100
TZOFFSETTO:+0000
TZNAME:GMT
DTSTART:20241027T010000
END:STANDARD
BEGIN:DAYLIGHT
TZOFFSETFROM:+0000
TZOFFSETTO:+0100
TZNAME:BST
DTSTART:20250330T010000
END:DAYLIGHT
BEGIN:STANDARD
TZOFFSETFROM:+0100
TZOFFSETTO:+0000
TZNAME:GMT
DTSTART:20251026T010000
END:STANDARD
BEGIN:DAYLIGHT
TZOFFSETFROM:+0000
TZOFFSETTO:+0100
TZNAME:BST
DTSTART:20260329T010000
END:DAYLIGHT
BEGIN:STANDARD
TZOFFSETFROM:+0100
TZOFFSETTO:+0000
TZNAME:GMT
DTSTART:20261025T010000
END:STANDARD
END:VTIMEZONE
BEGIN:VEVENT
DTSTART;TZID=Europe/London:20250222T090000
DTEND;TZID=Europe/London:20250222T090000
DTSTAMP:20260421T074200
CREATED:20250205T085447Z
LAST-MODIFIED:20250217T115426Z
UID:205455-1740214800-1740214800@warlord-community.warlordgames.com
SUMMARY:Liberation of France Narrative Event
DESCRIPTION:Narrative event in which Allied armies will attempt to liberate German Occupied France. Multiple tables will represent battlefields in France and Northern Europe. Using Beach Landings and Airborne Drops\, Allied Forces must establish a foothold and control tables to achieve victory. The Germans must defend their territory and hold on to conquered terrain.\nThis is a charity event and the proceeds from entry fees will go to the American Legion to help sponsor the Maryland Boys State Annual Dinner.\n– 1250 point armies from late war Germany and allied forces\n– Armies must be painted to at least 3 color tabletop standard\n– Up to 10 players per side\n– Entry fee is $20 donation to American Legion for Maryland Boys State Program Annual Dinner
URL:https://warlord-community.warlordgames.com/event/liberation-of-france-narrative-event/
LOCATION:Carroll Post #31 Legion Hall\, 2 Sycamore Street\, Westminster\, 21157\, United States
CATEGORIES:Charity Event,Warlord Not Attending
ORGANIZER;CN="Michael Kehs":MAILTO:mk6marine@yahoo.com
END:VEVENT
END:VCALENDAR