BEGIN:VCALENDAR
VERSION:2.0
PRODID:-//Warlord Community - ECPv6.15.20//NONSGML v1.0//EN
CALSCALE:GREGORIAN
METHOD:PUBLISH
X-ORIGINAL-URL:https://warlord-community.warlordgames.com
X-WR-CALDESC:Events for Warlord Community
REFRESH-INTERVAL;VALUE=DURATION:PT1H
X-Robots-Tag:noindex
X-PUBLISHED-TTL:PT1H
BEGIN:VTIMEZONE
TZID:Europe/London
BEGIN:DAYLIGHT
TZOFFSETFROM:+0000
TZOFFSETTO:+0100
TZNAME:BST
DTSTART:20180325T010000
END:DAYLIGHT
BEGIN:STANDARD
TZOFFSETFROM:+0100
TZOFFSETTO:+0000
TZNAME:GMT
DTSTART:20181028T010000
END:STANDARD
BEGIN:DAYLIGHT
TZOFFSETFROM:+0000
TZOFFSETTO:+0100
TZNAME:BST
DTSTART:20190331T010000
END:DAYLIGHT
BEGIN:STANDARD
TZOFFSETFROM:+0100
TZOFFSETTO:+0000
TZNAME:GMT
DTSTART:20191027T010000
END:STANDARD
BEGIN:DAYLIGHT
TZOFFSETFROM:+0000
TZOFFSETTO:+0100
TZNAME:BST
DTSTART:20200329T010000
END:DAYLIGHT
BEGIN:STANDARD
TZOFFSETFROM:+0100
TZOFFSETTO:+0000
TZNAME:GMT
DTSTART:20201025T010000
END:STANDARD
END:VTIMEZONE
BEGIN:VEVENT
DTSTART;VALUE=DATE:20191005
DTEND;VALUE=DATE:20191006
DTSTAMP:20260420T183836
CREATED:20191001T165817Z
LAST-MODIFIED:20191001T165817Z
UID:169187-1570233600-1570319999@warlord-community.warlordgames.com
SUMMARY:Antares Day at Mythicos Studios!
DESCRIPTION:Antares Day 2019\n\n\n\n\n\n\n\n\n\nJoin us for the second Antares Day at Mythicos Studios! \n\n19 route 10 east\, Suite 15\, Succasunna\, New Jersey \n  \nGhosts of Yu Hamnu\n\nConsternation grows around Antares as the events of Xilos causes gates to become unstable. There may well be more than five million gates but more gates are now closing than are being created\, causing fears of a new dark age. Is the Antares nexus about to collapse\, again? Once more\, the Isori are given the blame after using their chronophasic device in an attempt to resolve the Xilos disaster\, but blame is not enough… \nIn three systems in the Determinate\, ancient\, dormant technology in widespread archaeological sites springs to life. Whilst it is doubtful the technology is of Builder origin\, it appears to be sufficiently advanced to be able to partially predict gate activity: at least\, it seems to indicate the direction in which a closure is about to occur. Gaining control of a number of these devices and repositioning them could locate an imminent collapse. But there is no clear user interface to the technology and\, even more mysteriously\, what are thought to be status indicators occasionally flash up two words in the Concord alphabet: ‘Yu Hamnu’. \nBut NuHu Ambassador Yu Hamnu disappeared on Xilos: has she really survived the Xilos Catastrophe? Is she somehow safe behind the Xilos time-locks? Has she activated the ancient technology or is she just using it to communicate what she alone can see at the heart of Xilos? Most importantly\, does this mean Yu Hamnu can stall the collapse using the ancient machines? \nThere are far too many questions\, but all shape the future of Antares. Whether preventing a collapse or predicting gate closures\, the artefacts are suddenly of immense importance to all the people of Antares. The race to control the future is on! \nYou can find all of the details in the attached Comp-Pac
URL:https://warlord-community.warlordgames.com/event/169187/
LOCATION:Tyne & Wear
CATEGORIES:Campaign day,Local Gaming Store,Warlord Not Attending
END:VEVENT
BEGIN:VEVENT
DTSTART;TZID=Europe/London:20191005T100000
DTEND;TZID=Europe/London:20191005T170000
DTSTAMP:20260420T183836
CREATED:20190830T100028Z
LAST-MODIFIED:20190830T100028Z
UID:167650-1570269600-1570294800@warlord-community.warlordgames.com
SUMMARY:‘The Ghost of Yu Hamnu’ - A Beyond the Gates of Antares Faction League & Mini-Campaign
DESCRIPTION:5th October 2019\nWarlord HQ Nottingham\nPlay some great games with others who love Gates Of Antares! Get together in a friendly atmosphere\, have fun\, explore new challenges on this special day! \n \nView in Store \n\nConsternation grows around Antares as the events of Xilos causes gates to become unstable. There may well be more than five million gates but more gates are now closing than are being created\, causing fears of a new dark age. Is the Antares nexus about to collapse\, again? Once more\, the Isori are given the blame after using their chronophasic device in an attempt to resolve the Xilos disaster\, but blame is not enough… \nIn three systems in the Determinate\, ancient\, dormant technology in widespread archaeological sites springs to life. Whilst it is doubtful the technology is of Builder origin\, it appears to be sufficiently advanced to be able to partially predict gate activity: at least\, it seems to indicate the direction in which a closure is about to occur. Gaining control of a number of these devices and repositioning them could locate an imminent collapse. But there is no clear user interface to the technology and\, even more mysteriously\, what are thought to be status indicators occasionally flash up two words in the Concord alphabet: ‘Yu Hamnu’. \nBut NuHu Ambassador Yu Hamnu disappeared on Xilos: has she really survived the Xilos Catastrophe? Is she somehow safe behind the Xilos time-locks? Has she activated the ancient technology or is she just using it to communicate what she alone can see at the heart of Xilos? Most importantly\, does this mean Yu Hamnu can stall the collapse using the ancient machines? The answers to these questions mean the artefacts are of immense importance to all the people of Antares. \nThe race to control the future of the 7th Age is on! \n\n\n\nWhat Is An Antares Day\nAn Antares Day is a games day in which the objective is simply to play some great games with others who love Antares! It is a chance to get together in a friendly atmosphere\, have fun\, explore new challenges in the form of different battle environments or scenarios\, talk to the game designers about what they do and what they’re doing\, and meet the Gates of Antares creator and author Mr Rick Priestley. \nThere is a painting competition for the best army in use\, a standalone painting competition and a prize for the player voted the best gamer. And the shop will be open too! \nThis second Antares Day in 2019 showcases a new format – a faction league based around a mini-campaign where the results will be pooled by faction\, resulting in an overall winning faction.\nWhat’s more\, we’re planning for events to be taking place around the world\, with all the local results feeding into one\, global\, Antares Day faction league result! \nWatch this space for more info\, or come and visit for FREE on the day and see the action taking place! \nEach gaming spot costs £15. Make sure you order asap as there are only 30 spaces available.\nA complete player pack will be sent via a link when you purchase your ticket\, or you can download a copy here:\n    \nDownload a player pack \nView Ticket in Store
URL:https://warlord-community.warlordgames.com/event/gates-of-antares/
LOCATION:Warlord HQ\, Unit 1 Central Ct\, Finch Cl\, Lenton\, Nottingham\, NG7 2NN\, United Kingdom
CATEGORIES:Campaign day,Escalation league,Warlord Attending
ORGANIZER;CN="Warlord Games HQ Events":MAILTO:info@warlordgames.com
END:VEVENT
END:VCALENDAR