BEGIN:VCALENDAR
VERSION:2.0
PRODID:-//Warlord Community - ECPv6.15.20//NONSGML v1.0//EN
CALSCALE:GREGORIAN
METHOD:PUBLISH
X-WR-CALNAME:Warlord Community
X-ORIGINAL-URL:https://warlord-community.warlordgames.com
X-WR-CALDESC:Events for Warlord Community
REFRESH-INTERVAL;VALUE=DURATION:PT1H
X-Robots-Tag:noindex
X-PUBLISHED-TTL:PT1H
BEGIN:VTIMEZONE
TZID:Europe/London
BEGIN:DAYLIGHT
TZOFFSETFROM:+0000
TZOFFSETTO:+0100
TZNAME:BST
DTSTART:20250330T010000
END:DAYLIGHT
BEGIN:STANDARD
TZOFFSETFROM:+0100
TZOFFSETTO:+0000
TZNAME:GMT
DTSTART:20251026T010000
END:STANDARD
BEGIN:DAYLIGHT
TZOFFSETFROM:+0000
TZOFFSETTO:+0100
TZNAME:BST
DTSTART:20260329T010000
END:DAYLIGHT
BEGIN:STANDARD
TZOFFSETFROM:+0100
TZOFFSETTO:+0000
TZNAME:GMT
DTSTART:20261025T010000
END:STANDARD
BEGIN:DAYLIGHT
TZOFFSETFROM:+0000
TZOFFSETTO:+0100
TZNAME:BST
DTSTART:20270328T010000
END:DAYLIGHT
BEGIN:STANDARD
TZOFFSETFROM:+0100
TZOFFSETTO:+0000
TZNAME:GMT
DTSTART:20271031T010000
END:STANDARD
END:VTIMEZONE
BEGIN:VEVENT
DTSTART;TZID=Europe/London:20260101T090000
DTEND;TZID=Europe/London:20260602T170000
DTSTAMP:20260423T232255
CREATED:20260224T113554Z
LAST-MODIFIED:20260225T104246Z
UID:210009-1767258000-1780419600@warlord-community.warlordgames.com
SUMMARY:Operation Market Garden Bolt Action Grand Campaign.
DESCRIPTION:This event is a large scale\, narrative driven Bolt Action campaign themed around Operation Market Garden\, designed to recreate the scope\, pressure\, and decision making of one of the most ambitious operations of the Second World War. Over multiple months\, two teams of players\, divided into Allied and Axis\, will fight through 45 linked missions played across eight days of the historic campaign. The campaign focuses on the key phases of the operation\, including airborne landings\, bridge seizures\, corridor fighting\, and counterattacks. More than half of the scenarios are written to reflect specific historical situations\, terrain challenges\, and operational objectives\, ensuring that no two games feel the same. \nWhat makes this event stand out is the persistence and consequence built into every game. Results directly affect the evolving campaign narrative\, shaping later missions\, tatical and strategic options for both teams. Players are not just competing for individual victories but contributing to a wider operational outcome alongside their teammates. In addition to the competitive element\, the event strongly emphasizes theme\, hobby\, and immersion. The aim is to create an unforgettable experience that rewards tactical skill\, teamwork\, historical flavor\, and hobby excellence\, making it appealing both to seasoned tournament players and narrative focused hobbyists who want to feel part of something bigger than a single game.
URL:https://warlord-community.warlordgames.com/event/operation-market-garden-bolt-action-grand-campaign-2/
LOCATION:Norwich Last Stand gaming club\, Alec Bussey Scout Centre  Rowington Road\, Norwich\, Norfolk\, NR1 3RR\, United Kingdom
CATEGORIES:Campaign day,Warlord Not Attending
ORGANIZER;CN="William Shipman":MAILTO:Will_hoxne@live.co.uk
END:VEVENT
BEGIN:VEVENT
DTSTART;TZID=Europe/London:20260101T090000
DTEND;TZID=Europe/London:20260602T170000
DTSTAMP:20260423T232255
CREATED:20260224T113555Z
LAST-MODIFIED:20260225T104236Z
UID:210010-1767258000-1780419600@warlord-community.warlordgames.com
SUMMARY:Operation Market Garden Bolt Action Grand Campaign.
DESCRIPTION:This event is a large scale\, narrative driven Bolt Action campaign themed around Operation Market Garden\, designed to recreate the scope\, pressure\, and decision making of one of the most ambitious operations of the Second World War. Over multiple months\, two teams of players\, divided into Allied and Axis\, will fight through 45 linked missions played across eight days of the historic campaign. The campaign focuses on the key phases of the operation\, including airborne landings\, bridge seizures\, corridor fighting\, and counterattacks. More than half of the scenarios are written to reflect specific historical situations\, terrain challenges\, and operational objectives\, ensuring that no two games feel the same. \nWhat makes this event stand out is the persistence and consequence built into every game. Results directly affect the evolving campaign narrative\, shaping later missions\, tatical and strategic options for both teams. Players are not just competing for individual victories but contributing to a wider operational outcome alongside their teammates. In addition to the competitive element\, the event strongly emphasizes theme\, hobby\, and immersion. The aim is to create an unforgettable experience that rewards tactical skill\, teamwork\, historical flavor\, and hobby excellence\, making it appealing both to seasoned tournament players and narrative focused hobbyists who want to feel part of something bigger than a single game.
URL:https://warlord-community.warlordgames.com/event/operation-market-garden-bolt-action-grand-campaign/
LOCATION:Norwich Last Stand gaming club\, Alec Bussey Scout Centre  Rowington Road\, Norwich\, Norfolk\, NR1 3RR\, United Kingdom
CATEGORIES:Campaign day,Warlord Not Attending
ORGANIZER;CN="William Shipman":MAILTO:Will_hoxne@live.co.uk
END:VEVENT
BEGIN:VEVENT
DTSTART;TZID=Europe/London:20260406T090000
DTEND;TZID=Europe/London:20260501T170000
DTSTAMP:20260423T232255
CREATED:20260212T144409Z
LAST-MODIFIED:20260216T164256Z
UID:209874-1775466000-1777654800@warlord-community.warlordgames.com
SUMMARY:Bolt Action Casual Campaign
DESCRIPTION:Both the Bolt Action Casual Campaign and Konflikt ’47 Casual Campaign take place during this year’s Valhalla Gaming Retreat 2026\, which is a pre-paid event handled exclusively through Kickstarter. This year’s Casual Campaigns will use a variation of the recently released Road to Valhalla campaign system for Bolt Action and Konflikt ’47\, allowing participants to play a series of games. Throughout the retreat they will grow the size of their armies using a unit randomizer to vary unit selection and morale. Unique challenges will be presented to the participants as they receive units and fight against force compositions that they wouldn’t see during normal play sessions. The campaign will have a narrative\, a total of 19 unique missions to be assigned and features three battles shaped by the participant’s efforts throughout the event. As the retreat gets closer a campaign packet will be made available digitally to attendees\, with printed campaign packets on hand during the event to facilitate army creation and tabletop play.
URL:https://warlord-community.warlordgames.com/event/bolt-action-casual-campaign/
LOCATION:The Valhalla Gaming Retreat\, The Valhalla Gaming Retreat 2026's specific address and gate instructions are provided to attendee's closer to the event and are not given out in advance; due to the gated access\, Heber\, N/A\, United States
CATEGORIES:Campaign day,Warlord Not Attending
ORGANIZER;CN="Reuben Robie":MAILTO:thechronictoast@gmail.com
END:VEVENT
BEGIN:VEVENT
DTSTART;TZID=Europe/London:20260426T090000
DTEND;TZID=Europe/London:20260501T170000
DTSTAMP:20260423T232255
CREATED:20260212T144845Z
LAST-MODIFIED:20260216T163920Z
UID:209876-1777194000-1777654800@warlord-community.warlordgames.com
SUMMARY:Konflikt '47 Casual Campaign
DESCRIPTION:Both the Bolt Action Casual Campaign and Konflikt ’47 Casual Campaign take place during this year’s Valhalla Gaming Retreat 2026\, which is a pre-paid event handled exclusively through Kickstarter. This year’s Casual Campaigns will use a variation of the recently released Road to Valhalla campaign system for Bolt Action and Konflikt ’47\, allowing participants to play a series of games. Throughout the retreat they will grow the size of their armies using a unit randomizer to vary unit selection and morale. Unique challenges will be presented to the participants as they receive units and fight against force compositions that they wouldn’t see during normal play sessions. The campaign will have a narrative\, a total of 19 unique missions to be assigned and features three battles shaped by the participant’s efforts throughout the event. As the retreat gets closer a campaign packet will be made available digitally to attendees\, with printed campaign packets on hand during the event to facilitate army creation and tabletop play.
URL:https://warlord-community.warlordgames.com/event/konflikt-47-casual-campaign/
LOCATION:Valhalla Gaming Retreat\, The Valhalla Gaming Retreat 2026's specific address and gate instructions are provided to attendee's closer to the event and are not given out in advance; due to the gated access.\, Herber\, Utah\, N/A\, United Kingdom
CATEGORIES:Campaign day,Warlord Not Attending
ORGANIZER;CN="Reuben Robie":MAILTO:thechronictoast@gmail.com
END:VEVENT
END:VCALENDAR