BEGIN:VCALENDAR
VERSION:2.0
PRODID:-//Warlord Community - ECPv6.15.20//NONSGML v1.0//EN
CALSCALE:GREGORIAN
METHOD:PUBLISH
X-WR-CALNAME:Warlord Community
X-ORIGINAL-URL:https://warlord-community.warlordgames.com
X-WR-CALDESC:Events for Warlord Community
REFRESH-INTERVAL;VALUE=DURATION:PT1H
X-Robots-Tag:noindex
X-PUBLISHED-TTL:PT1H
BEGIN:VTIMEZONE
TZID:Europe/London
BEGIN:DAYLIGHT
TZOFFSETFROM:+0000
TZOFFSETTO:+0100
TZNAME:BST
DTSTART:20200329T010000
END:DAYLIGHT
BEGIN:STANDARD
TZOFFSETFROM:+0100
TZOFFSETTO:+0000
TZNAME:GMT
DTSTART:20201025T010000
END:STANDARD
BEGIN:DAYLIGHT
TZOFFSETFROM:+0000
TZOFFSETTO:+0100
TZNAME:BST
DTSTART:20210328T010000
END:DAYLIGHT
BEGIN:STANDARD
TZOFFSETFROM:+0100
TZOFFSETTO:+0000
TZNAME:GMT
DTSTART:20211031T010000
END:STANDARD
BEGIN:DAYLIGHT
TZOFFSETFROM:+0000
TZOFFSETTO:+0100
TZNAME:BST
DTSTART:20220327T010000
END:DAYLIGHT
BEGIN:STANDARD
TZOFFSETFROM:+0100
TZOFFSETTO:+0000
TZNAME:GMT
DTSTART:20221030T010000
END:STANDARD
END:VTIMEZONE
BEGIN:VEVENT
DTSTART;TZID=Europe/London:20211023T100000
DTEND;TZID=Europe/London:20211023T160000
DTSTAMP:20260421T053448
CREATED:20211013T082529Z
LAST-MODIFIED:20211013T082529Z
UID:172767-1634983200-1635004800@warlord-community.warlordgames.com
SUMMARY:Warlord Games Presents The Battle Of Trafalgar
DESCRIPTION:On the 23rd of October\, Warlord Games will be hosting the largest game of Black Seas to celebrate the anniversary of the Battle of Trafalgar (21st of October 1805). \nThe game will be played using Jonathan Jones’ collection from http://jjwargames.blogspot.co.uk/. He has the full complement of ships that participated in the battle\, fully painted and rigged. \nOn the day we there will be another chance to get hold of our open day 2021 special miniature Lucky Jack\, with a percentage of the profits from it going to Combat Stress\, a charity that helps Veterans mental health. \nYou will also be able to taste Hardtack and Grog! Staples of a 19th century sailor’s diet!
URL:https://warlord-community.warlordgames.com/event/warlord-games-presents-the-battle-of-trafalgar/
LOCATION:Warlord HQ Store\, Unit 1 Central Court\, Finch Close\, Nottingham\, Nottinghamshire\, NG7 2NN\, United Kingdom
CATEGORIES:Campaign day,Charity Event,Warlord Attending
ATTACH;FMTTYPE=:
ORGANIZER;CN="Warlord Games HQ Events":MAILTO:info@warlordgames.com
END:VEVENT
END:VCALENDAR