BEGIN:VCALENDAR
VERSION:2.0
PRODID:-//Warlord Community - ECPv6.15.20//NONSGML v1.0//EN
CALSCALE:GREGORIAN
METHOD:PUBLISH
X-WR-CALNAME:Warlord Community
X-ORIGINAL-URL:https://warlord-community.warlordgames.com
X-WR-CALDESC:Events for Warlord Community
REFRESH-INTERVAL;VALUE=DURATION:PT1H
X-Robots-Tag:noindex
X-PUBLISHED-TTL:PT1H
BEGIN:VTIMEZONE
TZID:Europe/London
BEGIN:DAYLIGHT
TZOFFSETFROM:+0000
TZOFFSETTO:+0100
TZNAME:BST
DTSTART:20180325T010000
END:DAYLIGHT
BEGIN:STANDARD
TZOFFSETFROM:+0100
TZOFFSETTO:+0000
TZNAME:GMT
DTSTART:20181028T010000
END:STANDARD
BEGIN:DAYLIGHT
TZOFFSETFROM:+0000
TZOFFSETTO:+0100
TZNAME:BST
DTSTART:20190331T010000
END:DAYLIGHT
BEGIN:STANDARD
TZOFFSETFROM:+0100
TZOFFSETTO:+0000
TZNAME:GMT
DTSTART:20191027T010000
END:STANDARD
BEGIN:DAYLIGHT
TZOFFSETFROM:+0000
TZOFFSETTO:+0100
TZNAME:BST
DTSTART:20200329T010000
END:DAYLIGHT
BEGIN:STANDARD
TZOFFSETFROM:+0100
TZOFFSETTO:+0000
TZNAME:GMT
DTSTART:20201025T010000
END:STANDARD
END:VTIMEZONE
BEGIN:VEVENT
DTSTART;VALUE=DATE:20190609
DTEND;VALUE=DATE:20190610
DTSTAMP:20260419T220741
CREATED:20190107T095916Z
LAST-MODIFIED:20190107T095916Z
UID:152890-1560038400-1560124799@warlord-community.warlordgames.com
SUMMARY:D-Day Tournament: Warlord HQ
DESCRIPTION:Sunday 9th June 2019\nCome on down and watch the action! \n  \n  \n\nThe ticket will include: \n\nTournament entry\n\n \nDownload Here \nYour AXIS Army \n\n750-1000 pts (To Be Confirmed)\nThis ticket is for an AXIS player\, only forces present at DDay allowed\nFully painted army\nThe Army must be based on army lists from current BA books.\n\nThe Games \n\n3 games on Sunday (first game will start at 9 am)\n\nBook Today to ensure your place! \nNote that there are no physical tickets. The organisers will get in touch with further information nearer the event\, so please make sure your contact details are up to date! \nPlease note\, there is no Disabled Access to our events facility\, access is via two flights of stairs.
URL:https://warlord-community.warlordgames.com/event/d-day-tournament-warlord-hq/
LOCATION:Warlord HQ\, Unit 1 Central Ct\, Finch Cl\, Lenton\, Nottingham\, NG7 2NN\, United Kingdom
CATEGORIES:Campaign day,Tournament,Warlord Attending
ORGANIZER;CN="Warlord Games HQ Events":MAILTO:info@warlordgames.com
END:VEVENT
END:VCALENDAR