BEGIN:VCALENDAR
VERSION:2.0
PRODID:-//Warlord Community - ECPv6.15.20//NONSGML v1.0//EN
CALSCALE:GREGORIAN
METHOD:PUBLISH
X-WR-CALNAME:Warlord Community
X-ORIGINAL-URL:https://warlord-community.warlordgames.com
X-WR-CALDESC:Events for Warlord Community
REFRESH-INTERVAL;VALUE=DURATION:PT1H
X-Robots-Tag:noindex
X-PUBLISHED-TTL:PT1H
BEGIN:VTIMEZONE
TZID:Europe/London
BEGIN:DAYLIGHT
TZOFFSETFROM:+0000
TZOFFSETTO:+0100
TZNAME:BST
DTSTART:20160327T010000
END:DAYLIGHT
BEGIN:STANDARD
TZOFFSETFROM:+0100
TZOFFSETTO:+0000
TZNAME:GMT
DTSTART:20161030T010000
END:STANDARD
BEGIN:DAYLIGHT
TZOFFSETFROM:+0000
TZOFFSETTO:+0100
TZNAME:BST
DTSTART:20170326T010000
END:DAYLIGHT
BEGIN:STANDARD
TZOFFSETFROM:+0100
TZOFFSETTO:+0000
TZNAME:GMT
DTSTART:20171029T010000
END:STANDARD
BEGIN:DAYLIGHT
TZOFFSETFROM:+0000
TZOFFSETTO:+0100
TZNAME:BST
DTSTART:20180325T010000
END:DAYLIGHT
BEGIN:STANDARD
TZOFFSETFROM:+0100
TZOFFSETTO:+0000
TZNAME:GMT
DTSTART:20181028T010000
END:STANDARD
BEGIN:DAYLIGHT
TZOFFSETFROM:+0000
TZOFFSETTO:+0100
TZNAME:BST
DTSTART:20190331T010000
END:DAYLIGHT
BEGIN:STANDARD
TZOFFSETFROM:+0100
TZOFFSETTO:+0000
TZNAME:GMT
DTSTART:20191027T010000
END:STANDARD
BEGIN:DAYLIGHT
TZOFFSETFROM:+0000
TZOFFSETTO:+0100
TZNAME:BST
DTSTART:20200329T010000
END:DAYLIGHT
BEGIN:STANDARD
TZOFFSETFROM:+0100
TZOFFSETTO:+0000
TZNAME:GMT
DTSTART:20201025T010000
END:STANDARD
END:VTIMEZONE
BEGIN:VEVENT
DTSTART;VALUE=DATE:20190119
DTEND;VALUE=DATE:20190120
DTSTAMP:20260424T082150
CREATED:20190107T085730Z
LAST-MODIFIED:20190107T085730Z
UID:152827-1547856000-1547942399@warlord-community.warlordgames.com
SUMMARY:BRS/CS boot camp
DESCRIPTION:HQ Ballroom \nSaturday 19th January
URL:https://warlord-community.warlordgames.com/event/brs-cs-boot-camp/
LOCATION:Warlord HQ\, Unit 1 Central Ct\, Finch Cl\, Lenton\, Nottingham\, NG7 2NN\, United Kingdom
CATEGORIES:Boot Camp,Warlord Attending
ORGANIZER;CN="Warlord Games HQ Events":MAILTO:info@warlordgames.com
END:VEVENT
BEGIN:VEVENT
DTSTART;TZID=Europe/London:20180505T103000
DTEND;TZID=Europe/London:20180505T143000
DTSTAMP:20260424T082150
CREATED:20180410T124433Z
LAST-MODIFIED:20180410T124433Z
UID:134043-1525516200-1525530600@warlord-community.warlordgames.com
SUMMARY:Telford Antares Boot Camp
DESCRIPTION:Get your 500px army together for this boot camp hosted by Questing Knight Games!
URL:https://warlord-community.warlordgames.com/event/telford-antares-boot-camp/
LOCATION:Questing Knight Games\, 6 Old Bakery Row\, The Parade\, Wellington\, Shropshire\, TF1 1PS\, United Kingdom
CATEGORIES:Boot Camp,Local Gaming Store,Warlord Not Attending
END:VEVENT
BEGIN:VEVENT
DTSTART;TZID=Europe/London:20170909T100000
DTEND;TZID=Europe/London:20170909T170000
DTSTAMP:20260424T082150
CREATED:20170721T094713Z
LAST-MODIFIED:20170721T094713Z
UID:124518-1504951200-1504976400@warlord-community.warlordgames.com
SUMMARY:Antares Charity boot camp
DESCRIPTION:  \nThe Primus Shard club\, together with Warlord Games\, is holding a BootCamp charity day with proceeds going to the Firefighters and Air ambulance service! \nBuy Ticket in store \n\nTickets are £15 & include lunch\nExpect to play 3 scenarios using your 750 point forces. \n\nPrizes for: Best Looking Army\, Sportsmanship\, most unlucky\, plus a painting competition for all Antarean armies\, Single figures and units. \nKick off at 10am finishing at 5pm Saturday 9th September 2017 \nWarlord HQ Nottingham
URL:https://warlord-community.warlordgames.com/event/antares-charity-boot-camp/
LOCATION:Warlord HQ\, Unit 1 Central Ct\, Finch Cl\, Lenton\, Nottingham\, NG7 2NN\, United Kingdom
CATEGORIES:Boot Camp,Warlord Attending
END:VEVENT
END:VCALENDAR