BEGIN:VCALENDAR
VERSION:2.0
PRODID:-//Warlord Community - ECPv6.15.20//NONSGML v1.0//EN
CALSCALE:GREGORIAN
METHOD:PUBLISH
X-ORIGINAL-URL:https://warlord-community.warlordgames.com
X-WR-CALDESC:Events for Warlord Community
REFRESH-INTERVAL;VALUE=DURATION:PT1H
X-Robots-Tag:noindex
X-PUBLISHED-TTL:PT1H
BEGIN:VTIMEZONE
TZID:Europe/London
BEGIN:DAYLIGHT
TZOFFSETFROM:+0000
TZOFFSETTO:+0100
TZNAME:BST
DTSTART:20230326T010000
END:DAYLIGHT
BEGIN:STANDARD
TZOFFSETFROM:+0100
TZOFFSETTO:+0000
TZNAME:GMT
DTSTART:20231029T010000
END:STANDARD
BEGIN:DAYLIGHT
TZOFFSETFROM:+0000
TZOFFSETTO:+0100
TZNAME:BST
DTSTART:20240331T010000
END:DAYLIGHT
BEGIN:STANDARD
TZOFFSETFROM:+0100
TZOFFSETTO:+0000
TZNAME:GMT
DTSTART:20241027T010000
END:STANDARD
BEGIN:DAYLIGHT
TZOFFSETFROM:+0000
TZOFFSETTO:+0100
TZNAME:BST
DTSTART:20250330T010000
END:DAYLIGHT
BEGIN:STANDARD
TZOFFSETFROM:+0100
TZOFFSETTO:+0000
TZNAME:GMT
DTSTART:20251026T010000
END:STANDARD
BEGIN:DAYLIGHT
TZOFFSETFROM:+0000
TZOFFSETTO:+0100
TZNAME:BST
DTSTART:20260329T010000
END:DAYLIGHT
BEGIN:STANDARD
TZOFFSETFROM:+0100
TZOFFSETTO:+0000
TZNAME:GMT
DTSTART:20261025T010000
END:STANDARD
END:VTIMEZONE
BEGIN:VEVENT
DTSTART;TZID=Europe/London:20241101T000000
DTEND;TZID=Europe/London:20250401T235900
DTSTAMP:20260423T152330
CREATED:20250218T133514Z
LAST-MODIFIED:20250218T150030Z
UID:205650-1730419200-1743551940@warlord-community.warlordgames.com
SUMMARY:Operation Triple Threat
DESCRIPTION:Operation Triple Threat is a beginner friendly escalation league being run in the ACVC Hub in Glasgow. The aim of the league is to introduce players old and new Bolt Action 3rd Edition rules\, get to grips with the new platoon structure and generally have some fun! OTT involves 3 rounds of games with 2 games per round.\nRound 1 is 500 points\, single rifle platoon only.\nRound 2 is 750 points\, 1 rifle platoon plus 1 other platoon.\nRound 3 is 1000 points\, unlimited platoons.
URL:https://warlord-community.warlordgames.com/event/operation-triple-threat/
LOCATION:ACVC Hub\, Unit 4a  Moorpark Industrial Estate  Orton Pl  Ibrox\, Glasgow\, Glasgow\, G51 2HF\, United Kingdom
CATEGORIES:Tournament,Warlord Not Attending
ORGANIZER;CN="Adam McLean":MAILTO:Theloftyone@gmail.com
END:VEVENT
BEGIN:VEVENT
DTSTART;TZID=Europe/London:20241101T000000
DTEND;TZID=Europe/London:20250228T235900
DTSTAMP:20260423T152330
CREATED:20250221T144802Z
LAST-MODIFIED:20250305T154536Z
UID:205739-1730419200-1740787140@warlord-community.warlordgames.com
SUMMARY:NLS Presents: Bridge over the River Wensum - A Bolt Action Slow Grow League
DESCRIPTION:Bridge over the River Wensum is a slow grow\, escalation league running over 4 months. It sees players ramping their forces up from 500 points to 1250 by the final month. Each player is required to play 2 games per round. Players score points for winning battles and painting their armies\, with the aim to have a fully painted army by the end of the league and having had a lot of fun along the way. At the end of the league\, the player with the highest combined score between hobby and battle points will win the coveted overall Supreme Commander Award. There are also awards for Best General\, Best Hobbyist\, Best Painted and Best Themed armies alongside that most important of all awards\, The Wooden Spoon! \nThe aim of the league was to grow the Bolt Action community within the club and\, with 14 participants\, it seems to have succeded! Everyone has had a lot of fun so far and\, with 1 more round of games to play\, there is still a lot to play for.
URL:https://warlord-community.warlordgames.com/event/nls-presents-bridge-over-the-river-wensum-a-bolt-action-slow-grow-league/
LOCATION:Norwich Last Stand\, Alec Bussey Scout Centre  Rowington Rd\, Norwich\, Norwich\, NR1 3RR\, United Kingdom
CATEGORIES:Tournament,Warlord Not Attending
ORGANIZER;CN="Adam Wright":MAILTO:ajmw1988@gmail.com
END:VEVENT
BEGIN:VEVENT
DTSTART;VALUE=DATE:20241123
DTEND;VALUE=DATE:20241125
DTSTAMP:20260423T152330
CREATED:20240806T145059Z
LAST-MODIFIED:20240807T131753Z
UID:203065-1732320000-1732492799@warlord-community.warlordgames.com
SUMMARY:Operation SNAFU
DESCRIPTION:Operation SNAFU is an Axis vs Allies Team event based on narrative play. Players will set their own matchups on thematic tables playing SNAFU designed scenarios focused around the Stalingrad and Case Blue campaigns \nSpecial “objective tables” will be in play. These tables will win a unique advantage for their side in subsequent rounds. When tides of battle become critical\, “High Command” may intervene in the final match ups.
URL:https://warlord-community.warlordgames.com/event/operation-snafu/
LOCATION:Crowne Plaza Plymouth\, 3131 Campus Dr\, Plymouth\, 55441\, United States
CATEGORIES:Tournament,Warlord Not Attending
ORGANIZER;CN="Patrick Moline":MAILTO:patrickmoline@gmail.com
END:VEVENT
BEGIN:VEVENT
DTSTART;VALUE=DATE:20241124
DTEND;VALUE=DATE:20241125
DTSTAMP:20260423T152330
CREATED:20241008T094936Z
LAST-MODIFIED:20241008T131257Z
UID:203985-1732406400-1732492799@warlord-community.warlordgames.com
SUMMARY:Boltstorm Wargming Commander Chaos Doubles event
DESCRIPTION:Boltstorm Wargamings first Version 3 event is a chance for folks to team up with their buddies\, both\nfielding 650 point lists to a total of 1300 points to duke it out in 3 games of mayhem and\ndestruction!!\nYour armies do not need to be historical allies but must be different factions\, so Germans with the\nBritish? Or The Japanese with the US?\nWith your forces built using the new platoon selectors you must work together to bring victory\,\nWe’ll have a great variety of board set ups with the mission for the round being chosen at random\non the day from the new mission generator from the V3 Rule book.\nPrizes as always brilliantly provided by Warlord games\, and a few extra bits and bobs we have in\nstore.
URL:https://warlord-community.warlordgames.com/event/boltstorm-wargming-commander-chaos-doubles-event/
LOCATION:Boltstorm Wargaming\, Unit 2 Bodkin Courtyard\, Leek\, Staffs\, ST13 5JE\, United Kingdom
CATEGORIES:Tournament,Warlord Not Attending
ORGANIZER;CN="Scott Reynolds":MAILTO:boltstormwargaming@gmail.com
END:VEVENT
BEGIN:VEVENT
DTSTART;TZID=Europe/London:20241124T083000
DTEND;TZID=Europe/London:20241124T163000
DTSTAMP:20260423T152330
CREATED:20241014T031204Z
LAST-MODIFIED:20241014T163538Z
UID:204078-1732437000-1732465800@warlord-community.warlordgames.com
SUMMARY:Outpost 6030 - Skulls Tournament November 2024 - “Operation Training Wheels”
DESCRIPTION:You will participate in a series of games\, each against a diﬀerent opponent. All games are to be played using the 3rd Edition rules and FAQs. You will have no more than two and a half hours per game. Round one will be randomly matched\, and each further round will be matched by the highest victory points. (Note there is no Axis/Allied)\n$35 per day attended for non-members and $30 per day attended for Outpost members\nArmy Selection\n•	One Rifle Platoon Only which means players can only take one of each of the following core platoons:\n•	Heavy Weapons Platoon\n•	Engineer Platoon\n•	Artillery Platoon\n•	Armoured Platoon\n•	Reece Platoon\n•	No more than 1000 points in total\n•	A maximum of 16 order dice\n•	Only a World War Two (1939-1945) platoon may be used.\n•	Loaders and special weapons in squads must be uniquely identifiable. All models must be on bases they are supplied with or a scenic base which ﬁts the criteria of the rules\, please ask if unsure\n•		Players may not use or take legendary tanks/aces\, tank ace abilities\, experimental rules or anything requiring opponent consent.
URL:https://warlord-community.warlordgames.com/event/outpost-6030-skulls-tournament-november-2024-operation-training-wheels/
LOCATION:South Perth Community Centre\, Cnr Sandgate St and South Tce\, South Perth\, Western Australia\, 6151\, Australia
CATEGORIES:Tournament,Warlord Not Attending
ORGANIZER;CN="Justin Ing":MAILTO:justin.ing@bigpond.com
END:VEVENT
BEGIN:VEVENT
DTSTART;TZID=Europe/London:20241124T100000
DTEND;TZID=Europe/London:20241124T100000
DTSTAMP:20260423T152330
CREATED:20241118T143204Z
LAST-MODIFIED:20241118T164142Z
UID:204451-1732442400-1732442400@warlord-community.warlordgames.com
SUMMARY:NHGNT presents “The road to Stalingrad”
DESCRIPTION:THE OBJECTIVE OF THE DAY IS TO SCORE AS  MANY POINTS IN THE SEQUENCE OF MISSIONS  FOR YOUR SIDE\, EITHER AXIS OR ALLIES.\nAT THE END OF EACH MISSION\, THE POINTS WILL  BE TOTALLED UP ON THE CAMPAIGN TRACKER\,  REPRESENTING THE ALLIES ABILITY TO HOLD OFF  THE GERMAN ADVANCE FROM STALINGRAD.\nAS THE GAMES PROGRESS YOU WILL EARN THE  OPPORTUNITY TO GAIN BONUSES FOR YOUR SIDE  WHICH WILL BE EXPLAINED BY THE GM.\nTHE FINAL GAME TAKING PLACE ON SUNDAY WILL  BE THE GRAND BATTLE FOR STALINGRAD\, WHERE  YOU WILL HAVE TO USE ALL YOUR STRATEGIC  THINKING TO PULL TOGETHER TO DEFEAT THE  ENEMY FORCE.\nAS THE WINNING SIDE OF STALINGRAD MAY VERY  WELL BE THE OVERALL VICTORY OF WW2…
URL:https://warlord-community.warlordgames.com/event/nhgnt-presents-the-road-to-stalingrad/
LOCATION:Boards and Swords Hobbies\, Jubilee Business Park  3 Jubilee Pkwy  Stores Rd  Derby DE21 4BJ\, Derby\, Derbyshire\, DE21 4BJ\, United Kingdom
CATEGORIES:Tournament,Warlord Not Attending
ORGANIZER;CN=" Forbes Parish":MAILTO:forbesparish@gmail.com
END:VEVENT
BEGIN:VEVENT
DTSTART;TZID=Europe/London:20241124T110000
DTEND;TZID=Europe/London:20241124T210000
DTSTAMP:20260423T152330
CREATED:20240915T141312Z
LAST-MODIFIED:20241017T102243Z
UID:204107-1732446000-1732482000@warlord-community.warlordgames.com
SUMMARY:Tanksgiving
DESCRIPTION:The first V3 tournament in Pittsburgh!  Bring out your tanks\, it is the annual thanksgiving tournament.   For every rifle platoon\, you MUST take an armoured platoon.   You can take other platoons\, but an armoured platoon must be included for each rifle.   1300 points. with no dice or platoon limit.   Awards will be given for best players. best painted\, and tank ace.   Bring out your tanks for a day of V3 action!!!!
URL:https://warlord-community.warlordgames.com/event/tanksgiving-3/
LOCATION:Griffons Lair\, 2014 Babcock Blvd Suite C  Pittsburgh  PA 15209\, Pittsburgh\, Pennsylvania\, 15209\, United Kingdom
CATEGORIES:Tournament,Warlord Not Attending
ORGANIZER;CN="Charles Sherrange":MAILTO:csherrange@gmail.com
END:VEVENT
END:VCALENDAR